BEGIN:VCALENDAR
VERSION:2.0
PRODID:-//LISAS - ECPv6.15.12.2//NONSGML v1.0//EN
CALSCALE:GREGORIAN
METHOD:PUBLISH
X-ORIGINAL-URL:https://lisas.se
X-WR-CALDESC:Events for LISAS
REFRESH-INTERVAL;VALUE=DURATION:PT1H
X-Robots-Tag:noindex
X-PUBLISHED-TTL:PT1H
BEGIN:VTIMEZONE
TZID:Europe/Stockholm
BEGIN:DAYLIGHT
TZOFFSETFROM:+0100
TZOFFSETTO:+0200
TZNAME:CEST
DTSTART:20210328T010000
END:DAYLIGHT
BEGIN:STANDARD
TZOFFSETFROM:+0200
TZOFFSETTO:+0100
TZNAME:CET
DTSTART:20211031T010000
END:STANDARD
BEGIN:DAYLIGHT
TZOFFSETFROM:+0100
TZOFFSETTO:+0200
TZNAME:CEST
DTSTART:20220327T010000
END:DAYLIGHT
BEGIN:STANDARD
TZOFFSETFROM:+0200
TZOFFSETTO:+0100
TZNAME:CET
DTSTART:20221030T010000
END:STANDARD
BEGIN:DAYLIGHT
TZOFFSETFROM:+0100
TZOFFSETTO:+0200
TZNAME:CEST
DTSTART:20230326T010000
END:DAYLIGHT
BEGIN:STANDARD
TZOFFSETFROM:+0200
TZOFFSETTO:+0100
TZNAME:CET
DTSTART:20231029T010000
END:STANDARD
END:VTIMEZONE
BEGIN:VEVENT
DTSTART;TZID=Europe/Stockholm:20220601T190000
DTEND;TZID=Europe/Stockholm:20220601T190000
DTSTAMP:20260423T034351
CREATED:20231020T111144Z
LAST-MODIFIED:20231020T111144Z
UID:809-1654110000-1654110000@lisas.se
SUMMARY:LISAS och Lena Willemark\, Västerås konserthus
DESCRIPTION:Vårcaprice!\n(Datum och biljettlänk på konserthusets hemsida avser 2 juni.) \nBiljetter: https://www.ticketmaster.se/event/vasteras-sinfonietta-varcaprice-biljetter/610589 \nhttps://duolisas.com
URL:https://lisas.se/event/lisas-och-lena-willemark-vasteras-konserthus-2/
LOCATION:Västerås konserthus\, Kopparbergsvägen 1\, Västerås\, 722 13\, Sweden
END:VEVENT
END:VCALENDAR