BEGIN:VCALENDAR
VERSION:2.0
PRODID:-//LISAS - ECPv6.15.12.2//NONSGML v1.0//EN
CALSCALE:GREGORIAN
METHOD:PUBLISH
X-WR-CALNAME:LISAS
X-ORIGINAL-URL:https://lisas.se
X-WR-CALDESC:Events for LISAS
REFRESH-INTERVAL;VALUE=DURATION:PT1H
X-Robots-Tag:noindex
X-PUBLISHED-TTL:PT1H
BEGIN:VTIMEZONE
TZID:Europe/Stockholm
BEGIN:DAYLIGHT
TZOFFSETFROM:+0100
TZOFFSETTO:+0200
TZNAME:CEST
DTSTART:20230326T010000
END:DAYLIGHT
BEGIN:STANDARD
TZOFFSETFROM:+0200
TZOFFSETTO:+0100
TZNAME:CET
DTSTART:20231029T010000
END:STANDARD
BEGIN:DAYLIGHT
TZOFFSETFROM:+0100
TZOFFSETTO:+0200
TZNAME:CEST
DTSTART:20240331T010000
END:DAYLIGHT
BEGIN:STANDARD
TZOFFSETFROM:+0200
TZOFFSETTO:+0100
TZNAME:CET
DTSTART:20241027T010000
END:STANDARD
BEGIN:DAYLIGHT
TZOFFSETFROM:+0100
TZOFFSETTO:+0200
TZNAME:CEST
DTSTART:20250330T010000
END:DAYLIGHT
BEGIN:STANDARD
TZOFFSETFROM:+0200
TZOFFSETTO:+0100
TZNAME:CET
DTSTART:20251026T010000
END:STANDARD
END:VTIMEZONE
BEGIN:VEVENT
DTSTART;TZID=Europe/Stockholm:20240504T193000
DTEND;TZID=Europe/Stockholm:20240504T193000
DTSTAMP:20260421T034227
CREATED:20240216T125914Z
LAST-MODIFIED:20240310T215052Z
UID:883-1714851000-1714851000@lisas.se
SUMMARY:LISAS\, Kafé Källtorp\, Nacka
DESCRIPTION:Egenkomponerad folkmusik i världsklass — med sitt alldeles unika sound hyllas LISAS både av publik och kritiker som en av vår tids ledande folkmusikduo. \nBiljetter: https://mountainbikeskolan.se/musik/lisas/ \nhttps://lisas.se/
URL:https://lisas.se/event/lisas-kafe-kalltorp-nacka/
LOCATION:Kafé Källtorp\, Nacka\, Ältavägen 105\, Nacka\, 131 33\, Sweden
ATTACH;FMTTYPE=image/jpeg:https://lisas.se/wp-content/uploads/2023/03/M1_01675_WWW-scaled.jpg
END:VEVENT
END:VCALENDAR