BEGIN:VCALENDAR
VERSION:2.0
PRODID:-//LISAS - ECPv6.15.12.2//NONSGML v1.0//EN
CALSCALE:GREGORIAN
METHOD:PUBLISH
X-ORIGINAL-URL:https://lisas.se
X-WR-CALDESC:Events for LISAS
REFRESH-INTERVAL;VALUE=DURATION:PT1H
X-Robots-Tag:noindex
X-PUBLISHED-TTL:PT1H
BEGIN:VTIMEZONE
TZID:Europe/Stockholm
BEGIN:DAYLIGHT
TZOFFSETFROM:+0100
TZOFFSETTO:+0200
TZNAME:CEST
DTSTART:20240331T010000
END:DAYLIGHT
BEGIN:STANDARD
TZOFFSETFROM:+0200
TZOFFSETTO:+0100
TZNAME:CET
DTSTART:20241027T010000
END:STANDARD
BEGIN:DAYLIGHT
TZOFFSETFROM:+0100
TZOFFSETTO:+0200
TZNAME:CEST
DTSTART:20250330T010000
END:DAYLIGHT
BEGIN:STANDARD
TZOFFSETFROM:+0200
TZOFFSETTO:+0100
TZNAME:CET
DTSTART:20251026T010000
END:STANDARD
BEGIN:DAYLIGHT
TZOFFSETFROM:+0100
TZOFFSETTO:+0200
TZNAME:CEST
DTSTART:20260329T010000
END:DAYLIGHT
BEGIN:STANDARD
TZOFFSETFROM:+0200
TZOFFSETTO:+0100
TZNAME:CET
DTSTART:20261025T010000
END:STANDARD
END:VTIMEZONE
BEGIN:VEVENT
DTSTART;TZID=Europe/Stockholm:20250807T190000
DTEND;TZID=Europe/Stockholm:20250807T190000
DTSTAMP:20260421T034910
CREATED:20250526T185233Z
LAST-MODIFIED:20250526T185326Z
UID:1054-1754593200-1754593200@lisas.se
SUMMARY:LISAS\, Västra Karaby kyrka Dösjebro
DESCRIPTION:Musik i backarna i Västra Karby kyrka \nLISAS gör ett turnébesök i Skåne. Här bjuds på ny musik och musikfrån albumet Fiddle & Accordion Conversations och från detsenaste albumet Etiam\, för vilket duon erhåll en Grammis 2024 i kategorinÅrets folkmusik. \nBiljetter: https://www.nortic.se/ticket/event/69158 \nhttps://lisas.se
URL:https://lisas.se/event/lisas-vastra-karaby-kyrka-dosjebro/
LOCATION:Västra Karaby kyrka\, Dösjebro\, Hällavägen 21\, Dösjebro\, 244 95
ATTACH;FMTTYPE=image/png:https://lisas.se/wp-content/uploads/2025/03/lisas-tittar-at-hoger-1.png
END:VEVENT
END:VCALENDAR