BEGIN:VCALENDAR
VERSION:2.0
PRODID:-//LISAS - ECPv6.15.12.2//NONSGML v1.0//EN
CALSCALE:GREGORIAN
METHOD:PUBLISH
X-ORIGINAL-URL:https://lisas.se
X-WR-CALDESC:Events for LISAS
REFRESH-INTERVAL;VALUE=DURATION:PT1H
X-Robots-Tag:noindex
X-PUBLISHED-TTL:PT1H
BEGIN:VTIMEZONE
TZID:Europe/Stockholm
BEGIN:DAYLIGHT
TZOFFSETFROM:+0100
TZOFFSETTO:+0200
TZNAME:CEST
DTSTART:20240331T010000
END:DAYLIGHT
BEGIN:STANDARD
TZOFFSETFROM:+0200
TZOFFSETTO:+0100
TZNAME:CET
DTSTART:20241027T010000
END:STANDARD
BEGIN:DAYLIGHT
TZOFFSETFROM:+0100
TZOFFSETTO:+0200
TZNAME:CEST
DTSTART:20250330T010000
END:DAYLIGHT
BEGIN:STANDARD
TZOFFSETFROM:+0200
TZOFFSETTO:+0100
TZNAME:CET
DTSTART:20251026T010000
END:STANDARD
BEGIN:DAYLIGHT
TZOFFSETFROM:+0100
TZOFFSETTO:+0200
TZNAME:CEST
DTSTART:20260329T010000
END:DAYLIGHT
BEGIN:STANDARD
TZOFFSETFROM:+0200
TZOFFSETTO:+0100
TZNAME:CET
DTSTART:20261025T010000
END:STANDARD
END:VTIMEZONE
BEGIN:VEVENT
DTSTART;TZID=Europe/Stockholm:20250829T190000
DTEND;TZID=Europe/Stockholm:20250829T190000
DTSTAMP:20260421T073126
CREATED:20250611T091920Z
LAST-MODIFIED:20250611T092431Z
UID:1062-1756494000-1756494000@lisas.se
SUMMARY:LISAS\, Kyrkskolan Ludvika
DESCRIPTION:Dans & Folkton har bjduit in LISAS \nLISAS: Avskalat\, intimt och alldeles briljant\,Lisa Rydberg och Lisa Långbacka i Ludvika \nBiljetter: https://www.nortic.se/ticket/event/70063 \nhttps://lisas.se
URL:https://lisas.se/event/lisas-kyrkskolan-ludvika/
LOCATION:Kyrkskolan\, Ludvika\, Högbergsgatan 19\, Ludvika\, 771 32
ATTACH;FMTTYPE=image/png:https://lisas.se/wp-content/uploads/2025/03/lisas-tittar-at-hoger-1.png
END:VEVENT
END:VCALENDAR