BEGIN:VCALENDAR
VERSION:2.0
PRODID:-//LISAS - ECPv6.15.12.2//NONSGML v1.0//EN
CALSCALE:GREGORIAN
METHOD:PUBLISH
X-ORIGINAL-URL:https://lisas.se
X-WR-CALDESC:Events for LISAS
REFRESH-INTERVAL;VALUE=DURATION:PT1H
X-Robots-Tag:noindex
X-PUBLISHED-TTL:PT1H
BEGIN:VTIMEZONE
TZID:Europe/Stockholm
BEGIN:DAYLIGHT
TZOFFSETFROM:+0100
TZOFFSETTO:+0200
TZNAME:CEST
DTSTART:20240331T010000
END:DAYLIGHT
BEGIN:STANDARD
TZOFFSETFROM:+0200
TZOFFSETTO:+0100
TZNAME:CET
DTSTART:20241027T010000
END:STANDARD
BEGIN:DAYLIGHT
TZOFFSETFROM:+0100
TZOFFSETTO:+0200
TZNAME:CEST
DTSTART:20250330T010000
END:DAYLIGHT
BEGIN:STANDARD
TZOFFSETFROM:+0200
TZOFFSETTO:+0100
TZNAME:CET
DTSTART:20251026T010000
END:STANDARD
BEGIN:DAYLIGHT
TZOFFSETFROM:+0100
TZOFFSETTO:+0200
TZNAME:CEST
DTSTART:20260329T010000
END:DAYLIGHT
BEGIN:STANDARD
TZOFFSETFROM:+0200
TZOFFSETTO:+0100
TZNAME:CET
DTSTART:20261025T010000
END:STANDARD
END:VTIMEZONE
BEGIN:VEVENT
DTSTART;TZID=Europe/Stockholm:20251217T190000
DTEND;TZID=Europe/Stockholm:20251217T190000
DTSTAMP:20260425T061016
CREATED:20251210T194221Z
LAST-MODIFIED:20251210T194355Z
UID:1129-1765998000-1765998000@lisas.se
SUMMARY:LISAS & Lena Willemark\, Örebro konserthus
DESCRIPTION:Dubé & Friends med Lena Willemark\, Lisa Rydberg och Lisa Långbacka \nTre av Sveriges mest uttrycksfulla och folkkära musiker – Lena Willemark\, Lisa Rydberg och Lisa Långbacka – gästar denna gång Sébastien Dubé för en oförglömlig afton. \nTillsammans väver de fyra fram ett möte där folkmusikens innersta nerv möter jazzens frihet och improvisationens lekfullhet. Ur detta uppstår ett varmt\, lyhört och stämningsfullt samspel\, där både tradition och nyskapande får ta plats. \nVi kommer att få höra smakprov från trions hyllade vinterkonsert ”Vinterskrud” – där julens mest älskade sånger får nytt liv i personliga\, himmelska tolkningar. Det blir innerligt\, kraftfullt och storslaget på samma gång.\nEn kväll som andas både vintermagi och musikalisk urkraft. \nMedverkande:\nLena Willemark – sång\, fiol; Lisa Rydberg – fiol; Lisa Långbacka – dragspel; Sébastien Dubé – kontrabas \nBiljetter: https://secure.tickster.com/sv/tb7hf88hfbr1w88/products \nhttps://lisas.se
URL:https://lisas.se/event/lisas-lena-willemark-orebro-konserthus/
CATEGORIES:folk
ATTACH;FMTTYPE=image/png:https://lisas.se/wp-content/uploads/2025/12/dube-o-vanner.png
END:VEVENT
END:VCALENDAR