BEGIN:VCALENDAR
VERSION:2.0
PRODID:-//LISAS - ECPv6.15.12.2//NONSGML v1.0//EN
CALSCALE:GREGORIAN
METHOD:PUBLISH
X-WR-CALNAME:LISAS
X-ORIGINAL-URL:https://lisas.se
X-WR-CALDESC:Events for LISAS
REFRESH-INTERVAL;VALUE=DURATION:PT1H
X-Robots-Tag:noindex
X-PUBLISHED-TTL:PT1H
BEGIN:VTIMEZONE
TZID:Europe/Stockholm
BEGIN:DAYLIGHT
TZOFFSETFROM:+0100
TZOFFSETTO:+0200
TZNAME:CEST
DTSTART:20250330T010000
END:DAYLIGHT
BEGIN:STANDARD
TZOFFSETFROM:+0200
TZOFFSETTO:+0100
TZNAME:CET
DTSTART:20251026T010000
END:STANDARD
BEGIN:DAYLIGHT
TZOFFSETFROM:+0100
TZOFFSETTO:+0200
TZNAME:CEST
DTSTART:20260329T010000
END:DAYLIGHT
BEGIN:STANDARD
TZOFFSETFROM:+0200
TZOFFSETTO:+0100
TZNAME:CET
DTSTART:20261025T010000
END:STANDARD
BEGIN:DAYLIGHT
TZOFFSETFROM:+0100
TZOFFSETTO:+0200
TZNAME:CEST
DTSTART:20270328T010000
END:DAYLIGHT
BEGIN:STANDARD
TZOFFSETFROM:+0200
TZOFFSETTO:+0100
TZNAME:CET
DTSTART:20271031T010000
END:STANDARD
END:VTIMEZONE
BEGIN:VEVENT
DTSTART;TZID=Europe/Stockholm:20260308T180000
DTEND;TZID=Europe/Stockholm:20260308T180000
DTSTAMP:20260420T040112
CREATED:20260308T120457Z
LAST-MODIFIED:20260308T120700Z
UID:1145-1772992800-1772992800@lisas.se
SUMMARY:LISAS\, Markuskyrkan Johanneshov
DESCRIPTION:Konsert på internationella kvinnodagen med LISAS\, Markuskyrkans damkör Vox Marci under ledning av Åsa Schmidt \nKonsert på internationella kvinnodagen. LISAS – Lisa Rydberg barockviolinist och riksspelman\, Lisa Långbacka ackordeon. Markuskyrkan damkör Vox Marci under ledning av Åsa Schmidt. \nhttps://lisas.se
URL:https://lisas.se/event/lisas-markuskyrkan-johanneshov/
LOCATION:Markuskyrkan\, Johanneshov\, Malmövägen 51\, Johanneshov\, 121 53
CATEGORIES:folk
ATTACH;FMTTYPE=image/png:https://lisas.se/wp-content/uploads/2020/06/i-spokslottet-0.3.png
END:VEVENT
END:VCALENDAR