BEGIN:VCALENDAR
VERSION:2.0
PRODID:-//LISAS - ECPv6.15.12.2//NONSGML v1.0//EN
CALSCALE:GREGORIAN
METHOD:PUBLISH
X-ORIGINAL-URL:https://lisas.se
X-WR-CALDESC:Events for LISAS
REFRESH-INTERVAL;VALUE=DURATION:PT1H
X-Robots-Tag:noindex
X-PUBLISHED-TTL:PT1H
BEGIN:VTIMEZONE
TZID:Europe/Stockholm
BEGIN:DAYLIGHT
TZOFFSETFROM:+0100
TZOFFSETTO:+0200
TZNAME:CEST
DTSTART:20250330T010000
END:DAYLIGHT
BEGIN:STANDARD
TZOFFSETFROM:+0200
TZOFFSETTO:+0100
TZNAME:CET
DTSTART:20251026T010000
END:STANDARD
BEGIN:DAYLIGHT
TZOFFSETFROM:+0100
TZOFFSETTO:+0200
TZNAME:CEST
DTSTART:20260329T010000
END:DAYLIGHT
BEGIN:STANDARD
TZOFFSETFROM:+0200
TZOFFSETTO:+0100
TZNAME:CET
DTSTART:20261025T010000
END:STANDARD
BEGIN:DAYLIGHT
TZOFFSETFROM:+0100
TZOFFSETTO:+0200
TZNAME:CEST
DTSTART:20270328T010000
END:DAYLIGHT
BEGIN:STANDARD
TZOFFSETFROM:+0200
TZOFFSETTO:+0100
TZNAME:CET
DTSTART:20271031T010000
END:STANDARD
END:VTIMEZONE
BEGIN:VEVENT
DTSTART;TZID=Europe/Stockholm:20260314T180000
DTEND;TZID=Europe/Stockholm:20260314T180000
DTSTAMP:20260420T040527
CREATED:20260308T120457Z
LAST-MODIFIED:20260308T120722Z
UID:1146-1773511200-1773511200@lisas.se
SUMMARY:LISAS\, Aggershus Östansjö
DESCRIPTION:Nu kommer den här underbart fina duon tillbaka! MISSA INTE DEN HÄR KONSERTEN!” \nKonsert med duon LISAS \nFÖRBOKA GÄRNA BILJETTER VIA MAIL: ingela.agger@telia.com eller eller sms:a/ring på tel: 0705580526 \nhttps://lisas.se“
URL:https://lisas.se/event/lisas-aggershus-ostansjo-3/
LOCATION:Aggershus\, Östansjö\, Berga Skola 349\, Östansjö\, 694 93\, Sweden
CATEGORIES:folk
ATTACH;FMTTYPE=image/jpeg:https://lisas.se/wp-content/uploads/2023/03/M1_01675_WWW-scaled.jpg
END:VEVENT
END:VCALENDAR