BEGIN:VCALENDAR
VERSION:2.0
PRODID:-//LISAS - ECPv6.15.12.2//NONSGML v1.0//EN
CALSCALE:GREGORIAN
METHOD:PUBLISH
X-ORIGINAL-URL:https://lisas.se
X-WR-CALDESC:Events for LISAS
REFRESH-INTERVAL;VALUE=DURATION:PT1H
X-Robots-Tag:noindex
X-PUBLISHED-TTL:PT1H
BEGIN:VTIMEZONE
TZID:Europe/Stockholm
BEGIN:DAYLIGHT
TZOFFSETFROM:+0100
TZOFFSETTO:+0200
TZNAME:CEST
DTSTART:20250330T010000
END:DAYLIGHT
BEGIN:STANDARD
TZOFFSETFROM:+0200
TZOFFSETTO:+0100
TZNAME:CET
DTSTART:20251026T010000
END:STANDARD
BEGIN:DAYLIGHT
TZOFFSETFROM:+0100
TZOFFSETTO:+0200
TZNAME:CEST
DTSTART:20260329T010000
END:DAYLIGHT
BEGIN:STANDARD
TZOFFSETFROM:+0200
TZOFFSETTO:+0100
TZNAME:CET
DTSTART:20261025T010000
END:STANDARD
BEGIN:DAYLIGHT
TZOFFSETFROM:+0100
TZOFFSETTO:+0200
TZNAME:CEST
DTSTART:20270328T010000
END:DAYLIGHT
BEGIN:STANDARD
TZOFFSETFROM:+0200
TZOFFSETTO:+0100
TZNAME:CET
DTSTART:20271031T010000
END:STANDARD
END:VTIMEZONE
BEGIN:VEVENT
DTSTART;TZID=Europe/Stockholm:20260220T200000
DTEND;TZID=Europe/Stockholm:20260220T200000
DTSTAMP:20260420T124237
CREATED:20260308T120456Z
LAST-MODIFIED:20260308T120538Z
UID:1143-1771617600-1771617600@lisas.se
SUMMARY:LISAS\, Sigtunastiftelsen
DESCRIPTION:Musikbar: Lisa Långbacka och Lisa Rydberg – Fullbokat! \nLISAS utgörs av två av Sveriges mest kritikerrosade musiker med världen som spelplats – Lisa Långbacka\, accordeon\, och Lisa Rydberg\, fiol. LISAS inbjuder dig att njuta av musik som nyfiket tänjer på genregränserna\, och ensemblespel som kännetecknas av lyhördhet och intensitet. Repertoaren består av traditionell folkmusik såväl som egna kompositioner\, influerade av folkmusik\, barockmusik\, tango\, modern konst- och filmmusik. \nBoka gärna bord i vår restaurang i samband med ditt besök! Avnjut vår populära Kulturmacka eller välj direkt från vår à la carte meny. Restaurangen öppnar 17.00www.sigtunastiftelsen.se ”BOKA BORD \nhttps://lisas.se“
URL:https://lisas.se/event/lisas-sigtunastiftelsen-2/
LOCATION:Sigtunastiftelsen\, Manfred Björkquists allé 4\, Sigtuna\, 193 31\, Sweden
CATEGORIES:folk
ATTACH;FMTTYPE=image/png:https://lisas.se/wp-content/uploads/2025/03/lisas-tittar-at-hoger-1.png
END:VEVENT
END:VCALENDAR