BEGIN:VCALENDAR
VERSION:2.0
PRODID:-//LISAS - ECPv6.15.12.2//NONSGML v1.0//EN
CALSCALE:GREGORIAN
METHOD:PUBLISH
X-WR-CALNAME:LISAS
X-ORIGINAL-URL:https://lisas.se
X-WR-CALDESC:Events for LISAS
REFRESH-INTERVAL;VALUE=DURATION:PT1H
X-Robots-Tag:noindex
X-PUBLISHED-TTL:PT1H
BEGIN:VTIMEZONE
TZID:Europe/Stockholm
BEGIN:DAYLIGHT
TZOFFSETFROM:+0100
TZOFFSETTO:+0200
TZNAME:CEST
DTSTART:20230326T010000
END:DAYLIGHT
BEGIN:STANDARD
TZOFFSETFROM:+0200
TZOFFSETTO:+0100
TZNAME:CET
DTSTART:20231029T010000
END:STANDARD
BEGIN:DAYLIGHT
TZOFFSETFROM:+0100
TZOFFSETTO:+0200
TZNAME:CEST
DTSTART:20240331T010000
END:DAYLIGHT
BEGIN:STANDARD
TZOFFSETFROM:+0200
TZOFFSETTO:+0100
TZNAME:CET
DTSTART:20241027T010000
END:STANDARD
BEGIN:DAYLIGHT
TZOFFSETFROM:+0100
TZOFFSETTO:+0200
TZNAME:CEST
DTSTART:20250330T010000
END:DAYLIGHT
BEGIN:STANDARD
TZOFFSETFROM:+0200
TZOFFSETTO:+0100
TZNAME:CET
DTSTART:20251026T010000
END:STANDARD
BEGIN:DAYLIGHT
TZOFFSETFROM:+0100
TZOFFSETTO:+0200
TZNAME:CEST
DTSTART:20260329T010000
END:DAYLIGHT
BEGIN:STANDARD
TZOFFSETFROM:+0200
TZOFFSETTO:+0100
TZNAME:CET
DTSTART:20261025T010000
END:STANDARD
BEGIN:DAYLIGHT
TZOFFSETFROM:+0100
TZOFFSETTO:+0200
TZNAME:CEST
DTSTART:20270328T010000
END:DAYLIGHT
BEGIN:STANDARD
TZOFFSETFROM:+0200
TZOFFSETTO:+0100
TZNAME:CET
DTSTART:20271031T010000
END:STANDARD
END:VTIMEZONE
BEGIN:VEVENT
DTSTART;TZID=Europe/Stockholm:20260308T180000
DTEND;TZID=Europe/Stockholm:20260308T180000
DTSTAMP:20260420T100633
CREATED:20260308T120457Z
LAST-MODIFIED:20260308T120700Z
UID:1145-1772992800-1772992800@lisas.se
SUMMARY:LISAS\, Markuskyrkan Johanneshov
DESCRIPTION:Konsert på internationella kvinnodagen med LISAS\, Markuskyrkans damkör Vox Marci under ledning av Åsa Schmidt \nKonsert på internationella kvinnodagen. LISAS – Lisa Rydberg barockviolinist och riksspelman\, Lisa Långbacka ackordeon. Markuskyrkan damkör Vox Marci under ledning av Åsa Schmidt. \nhttps://lisas.se
URL:https://lisas.se/event/lisas-markuskyrkan-johanneshov/
LOCATION:Markuskyrkan\, Johanneshov\, Malmövägen 51\, Johanneshov\, 121 53
CATEGORIES:folk
ATTACH;FMTTYPE=image/png:https://lisas.se/wp-content/uploads/2020/06/i-spokslottet-0.3.png
END:VEVENT
BEGIN:VEVENT
DTSTART;TZID=Europe/Stockholm:20260307T170000
DTEND;TZID=Europe/Stockholm:20260307T170000
DTSTAMP:20260420T100633
CREATED:20260308T120456Z
LAST-MODIFIED:20260308T120625Z
UID:1144-1772902800-1772902800@lisas.se
SUMMARY:LISAS\, Lidköpings Konsertförening
DESCRIPTION:LISAS – Lisa Rydberg fiol och Lisa Långbacka accordeon – Grammisbelönad duo! \nLISAS har även ett samarbete med konstnären och grafikern David Giese. Under våren 2026 kommer de med stöd av STIM och Statens Kulturråd att uruppföra ny musik som de skapat till Davids animationer. Vid denna konsert bjuder duon\, vid sidan av sin mer inarbetade repertoar\, även på smakprov ur denna nya svit. \nhttps://lisas.se
URL:https://lisas.se/event/lisas-lidkopings-konsertforening/
CATEGORIES:folk
ATTACH;FMTTYPE=image/jpeg:https://lisas.se/wp-content/uploads/2021/01/LISAS-foto-Mattias-de-Frumerie.jpg
END:VEVENT
BEGIN:VEVENT
DTSTART;TZID=Europe/Stockholm:20260220T200000
DTEND;TZID=Europe/Stockholm:20260220T200000
DTSTAMP:20260420T100633
CREATED:20260308T120456Z
LAST-MODIFIED:20260308T120538Z
UID:1143-1771617600-1771617600@lisas.se
SUMMARY:LISAS\, Sigtunastiftelsen
DESCRIPTION:Musikbar: Lisa Långbacka och Lisa Rydberg – Fullbokat! \nLISAS utgörs av två av Sveriges mest kritikerrosade musiker med världen som spelplats – Lisa Långbacka\, accordeon\, och Lisa Rydberg\, fiol. LISAS inbjuder dig att njuta av musik som nyfiket tänjer på genregränserna\, och ensemblespel som kännetecknas av lyhördhet och intensitet. Repertoaren består av traditionell folkmusik såväl som egna kompositioner\, influerade av folkmusik\, barockmusik\, tango\, modern konst- och filmmusik. \nBoka gärna bord i vår restaurang i samband med ditt besök! Avnjut vår populära Kulturmacka eller välj direkt från vår à la carte meny. Restaurangen öppnar 17.00www.sigtunastiftelsen.se ”BOKA BORD \nhttps://lisas.se“
URL:https://lisas.se/event/lisas-sigtunastiftelsen-2/
LOCATION:Sigtunastiftelsen\, Manfred Björkquists allé 4\, Sigtuna\, 193 31\, Sweden
CATEGORIES:folk
ATTACH;FMTTYPE=image/png:https://lisas.se/wp-content/uploads/2025/03/lisas-tittar-at-hoger-1.png
END:VEVENT
BEGIN:VEVENT
DTSTART;TZID=Europe/Stockholm:20251221T160000
DTEND;TZID=Europe/Stockholm:20251221T160000
DTSTAMP:20260420T100633
CREATED:20251204T134620Z
LAST-MODIFIED:20251204T141713Z
UID:1123-1766332800-1766332800@lisas.se
SUMMARY:LISAS & Lena Willemark\, Byskolan Stavsnäs
DESCRIPTION:Julkosert med Lena Willemark\, Lisa Rydberg och Lisa Långbacka \nTre älskade sång- och spel- kvinnor – bjuder in till en exklusiv julkonsert.\nInnerligt och kraftfullt\, med julens favoriter i personliga tolkningar. \nKaffe\, öl\, vin\, glögg och pepparkakor i barenVälkomna! \nhttps://lisas.se
URL:https://lisas.se/event/lisas-lena-willemark-byskolan-stavsnas/
LOCATION:Byskolan\, Stavsnäs\, Skolvägen 15\, Stavsnäs\, 139 70
CATEGORIES:folk
ATTACH;FMTTYPE=image/png:https://lisas.se/wp-content/uploads/2025/09/lisas-o-lena.png
END:VEVENT
BEGIN:VEVENT
DTSTART;TZID=Europe/Stockholm:20251220T190000
DTEND;TZID=Europe/Stockholm:20251220T190000
DTSTAMP:20260420T100633
CREATED:20250911T110118Z
LAST-MODIFIED:20251204T141826Z
UID:1094-1766257200-1766257200@lisas.se
SUMMARY:LISAS & Lena Willemark\, Kulturoasen Uppsala
DESCRIPTION:I VINTERSKRUD \nLisa Långbacka\, Lena Willemark\, Lisa Rydberg – I Vinterskrud Ett möte mellan tre\, på sina respektive instrument\, unika musikanter. Lite som inför en stundande middagsbjudning; ett samtal som kan leda såväl längs gamla stigar och färdvägar som in på helt nya marker. Scenvana\, musikalitet och spelskicklighet här förkroppsligad av några av landets mest begåvade spelkvinnor. \nDörrarna öppnas 17.00 och då öppnar julbuffén portarna. Julkonserten startar 19.00. \nBiljetter: https://secure.tickster.com/sv/86yd0mknkrwxw6k \nhttps://lisas.se
URL:https://lisas.se/event/lisas-lena-willemark-kulturoasen-uppsala/
LOCATION:Kulturoasen\, Uppsala\, Hågavägen 188\, Uppsala\, 752 63\, Sweden
CATEGORIES:folk
ATTACH;FMTTYPE=image/png:https://lisas.se/wp-content/uploads/2025/09/lisas-o-lena.png
END:VEVENT
BEGIN:VEVENT
DTSTART;TZID=Europe/Stockholm:20251219T193000
DTEND;TZID=Europe/Stockholm:20251219T193000
DTSTAMP:20260420T100633
CREATED:20251204T134620Z
LAST-MODIFIED:20251204T141636Z
UID:1122-1766172600-1766172600@lisas.se
SUMMARY:LISAS & Lena Willemark\, Wij Trädgårdar Ockelbo
DESCRIPTION:Tre älskade sång- och spelkvinnor bjuder in till en exklusiv julkonsert i Ateljén på Wij Trädgårdar. \nI VINTERSKRUD\nInnerligt och kraftfullt\, julens mest älskade sånger i personliga tolkningar som andas både tidlöshet\, tradition och förnyelse. \nLena Willemark – Lisa Långbacka – Lisa Rydberg \nBiljetter: https://kulturbiljetter.se/kassa \nhttps://lisas.se
URL:https://lisas.se/event/lisas-lena-willemark-wij-tradgardar-ockelbo/
LOCATION:Wij Trädgårdar\, Ockelbo\, Ekbacken 9A-D\, Ockelbo\, 816 30
CATEGORIES:folk
ATTACH;FMTTYPE=image/png:https://lisas.se/wp-content/uploads/2025/09/lisas-o-lena.png
END:VEVENT
BEGIN:VEVENT
DTSTART;TZID=Europe/Stockholm:20251217T190000
DTEND;TZID=Europe/Stockholm:20251217T190000
DTSTAMP:20260420T100633
CREATED:20251210T194221Z
LAST-MODIFIED:20251210T194355Z
UID:1129-1765998000-1765998000@lisas.se
SUMMARY:LISAS & Lena Willemark\, Örebro konserthus
DESCRIPTION:Dubé & Friends med Lena Willemark\, Lisa Rydberg och Lisa Långbacka \nTre av Sveriges mest uttrycksfulla och folkkära musiker – Lena Willemark\, Lisa Rydberg och Lisa Långbacka – gästar denna gång Sébastien Dubé för en oförglömlig afton. \nTillsammans väver de fyra fram ett möte där folkmusikens innersta nerv möter jazzens frihet och improvisationens lekfullhet. Ur detta uppstår ett varmt\, lyhört och stämningsfullt samspel\, där både tradition och nyskapande får ta plats. \nVi kommer att få höra smakprov från trions hyllade vinterkonsert ”Vinterskrud” – där julens mest älskade sånger får nytt liv i personliga\, himmelska tolkningar. Det blir innerligt\, kraftfullt och storslaget på samma gång.\nEn kväll som andas både vintermagi och musikalisk urkraft. \nMedverkande:\nLena Willemark – sång\, fiol; Lisa Rydberg – fiol; Lisa Långbacka – dragspel; Sébastien Dubé – kontrabas \nBiljetter: https://secure.tickster.com/sv/tb7hf88hfbr1w88/products \nhttps://lisas.se
URL:https://lisas.se/event/lisas-lena-willemark-orebro-konserthus/
CATEGORIES:folk
ATTACH;FMTTYPE=image/png:https://lisas.se/wp-content/uploads/2025/12/dube-o-vanner.png
END:VEVENT
BEGIN:VEVENT
DTSTART;TZID=Europe/Stockholm:20251214T150000
DTEND;TZID=Europe/Stockholm:20251214T150000
DTSTAMP:20260420T100633
CREATED:20250911T110119Z
LAST-MODIFIED:20250911T111239Z
UID:1095-1765724400-1765724400@lisas.se
SUMMARY:LISAS & Lena Willemark\, Östergötlands museum Linköping
DESCRIPTION:I VINTERSKRUD \nTre älskade och välrenommerade sång- och spelkvinnor – bjuder in till en exklusiv julkonsert. \nInnerligt och kraftfullt\, julens mest älskade sånger i personliga tolkningar som andas både tidlöshet\, tradition och förnyelse.\nUpplev en sällsamt uttrycksfull trio i en skrud av himmelska körklanger och låt julfriden infinna sig! \nBiljetter: https://makethescene.ticketco.events/se/sv/events/889898/seating_arrangement/sections/586009 \nhttps://lisas.se
URL:https://lisas.se/event/lisas-lena-willemark-ostergotlands-museum-linkoping/
LOCATION:Östergötlands museum\, Linköping\, Raoul Wallenbergs plats\, Linköping\, 582 18
CATEGORIES:folk
ATTACH;FMTTYPE=image/png:https://lisas.se/wp-content/uploads/2025/09/i-vinterskrud-lkp.png
END:VEVENT
BEGIN:VEVENT
DTSTART;TZID=Europe/Stockholm:20251213T180000
DTEND;TZID=Europe/Stockholm:20251213T180000
DTSTAMP:20260420T100633
CREATED:20251204T134619Z
LAST-MODIFIED:20251204T141612Z
UID:1121-1765648800-1765648800@lisas.se
SUMMARY:LISAS\, Tossene Kulturkyrka Hunnebostrand
DESCRIPTION:Lucia med LISAS\, Ale Möller och Knut Reiersrud \nSuccén från förra året är tillbaka! Ale Möller och Lisas har bjudit in musikmagikern Knut Reiersrud för att tillsammans med Carolina Friberg och Luciakören leda oss rakt in i varmaste vintermysstämningen. Vi bjuds på en helkväll med de mest älskade luciasångerna och några favoriter som vi kanske inte hört än. Kom och sjung med när hela Tossene Kulturkyrka firar den mest finstämda traditionen vi har – Lucia! \nBiljetter: https://www.biljettkiosken.se/luciakonsert2025 \nhttps://lisas.se
URL:https://lisas.se/event/lisas-tossene-kulturkyrka-hunnebostrand/
CATEGORIES:folk
ATTACH;FMTTYPE=image/png:https://lisas.se/wp-content/uploads/2025/03/lisas-tittar-at-hoger-1.png
END:VEVENT
BEGIN:VEVENT
DTSTART;TZID=Europe/Stockholm:20251211T193000
DTEND;TZID=Europe/Stockholm:20251211T193000
DTSTAMP:20260420T100633
CREATED:20250311T093656Z
LAST-MODIFIED:20250311T094502Z
UID:1017-1765481400-1765481400@lisas.se
SUMMARY:LISAS\, Konserthuset Oslo
DESCRIPTION:Knut Reiersrud har inviterat några av sina svenska musikvännertill att fira Jul på svenska \nSvenskarna är inga mindre än Lisa Rydberg; Lisa Långbacka och Ale Möller.Det ryktas också om gästuppträdande från gränstrakterna. \nBiljetter: https://billetter.okh.no/nb/buyingflow/tickets/37076/ \nhttps://lisas.se
URL:https://lisas.se/event/lisas-konserthuset-oslo-3/
LOCATION:Konserthuset\, Oslo\, Munkedamsveien 14\, Oslo\, 0115\, Sweden
CATEGORIES:Folkmusik
ATTACH;FMTTYPE=image/png:https://lisas.se/wp-content/uploads/2023/10/2023-12-12-jul-pa-svenska.png
END:VEVENT
BEGIN:VEVENT
DTSTART;TZID=Europe/Stockholm:20251207T180000
DTEND;TZID=Europe/Stockholm:20251207T180000
DTSTAMP:20260420T100633
CREATED:20250911T110118Z
LAST-MODIFIED:20250911T111200Z
UID:1093-1765130400-1765130400@lisas.se
SUMMARY:LISAS & Lena Willemark\, Stallet Stockholm
DESCRIPTION:I VINTERSKRUD \nJulkonsert med Lena Willemark\, Lisa Rydberg\, och Lisa Långbacka\nTre av våra mest uttrycksfulla musikskapare bjuder in till en exklusiv julkonsert där tradition möter förnyelse. I en tät och nära stämning får vi höra älskade julsånger i nya personliga tolkningar – i arrangemang som rör sig mellan det himmelska och det jordnära. Innerligt\, stämningsfullt och med ett musikaliskt djup som stannar kvar långt efter sista tonen klingat ut. \nBiljetter: https://secure.tickster.com/ah8xrwrnfhzyhzd \nhttps://lisas.se
URL:https://lisas.se/event/lisas-lena-willemark-stallet-stockholm-2/
LOCATION:Stallet\, Stockholm\, Stallgatan 7\, Stockholm\, 111 48\, Sweden
CATEGORIES:folk
ATTACH;FMTTYPE=image/png:https://lisas.se/wp-content/uploads/2025/09/lisas-o-lena.png
END:VEVENT
BEGIN:VEVENT
DTSTART;TZID=Europe/Stockholm:20251207T150000
DTEND;TZID=Europe/Stockholm:20251207T150000
DTSTAMP:20260420T100633
CREATED:20250911T110118Z
LAST-MODIFIED:20250911T111140Z
UID:1092-1765119600-1765119600@lisas.se
SUMMARY:LISAS & Lena Willemark\, Stallet Stockholm
DESCRIPTION:I VINTERSKRUD \nJulkonsert med Lena Willemark\, Lisa Rydberg\, och Lisa Långbacka\nTre av våra mest uttrycksfulla musikskapare bjuder in till en exklusiv julkonsert där tradition möter förnyelse. I en tät och nära stämning får vi höra älskade julsånger i nya personliga tolkningar – i arrangemang som rör sig mellan det himmelska och det jordnära. Innerligt\, stämningsfullt och med ett musikaliskt djup som stannar kvar långt efter sista tonen klingat ut. \nBiljetter: https://secure.tickster.com/d9kzaxu0wamvjz3 \nhttps://lisas.se
URL:https://lisas.se/event/lisas-lena-willemark-stallet-stockholm/
LOCATION:Stallet\, Stockholm\, Stallgatan 7\, Stockholm\, 111 48\, Sweden
CATEGORIES:folk
ATTACH;FMTTYPE=image/png:https://lisas.se/wp-content/uploads/2025/09/lisas-o-lena.png
END:VEVENT
BEGIN:VEVENT
DTSTART;TZID=Europe/Stockholm:20251204T190000
DTEND;TZID=Europe/Stockholm:20251204T190000
DTSTAMP:20260420T100633
CREATED:20250911T110117Z
LAST-MODIFIED:20250911T111124Z
UID:1091-1764874800-1764874800@lisas.se
SUMMARY:LISAS & Lena Willemark\, Stora Teatern Göteborg
DESCRIPTION:I VINTERSKRUD \nTre älskade och välrenommerade sång- och spelkvinnor – bjuder in till en exklusiv julkonsert. \nInnerligt och kraftfullt\, julens mest älskade sånger i personliga tolkningar som andas både tidlöshet\, tradition och förnyelse. Upplev en sällsamt uttrycksfull trio i en skrud av himmelska körklanger och låt julfriden infinna sig! \nMedverkande:\nLisa Långbacka\, accordeon och sång\nLisa Rydberg\, violin och sång\nLena Willemark\, violin\, viola och sång\nGöteborgs KammarkörGunnar Eriksson\, dirigent \nBiljetter: https://tickets.storateatern.se/sv/buyingflow/tickets/26385/109817 \nhttps://lisas.se
URL:https://lisas.se/event/lisas-lena-willemark-stora-teatern-goteborg/
CATEGORIES:folk
ATTACH;FMTTYPE=image/png:https://lisas.se/wp-content/uploads/2025/09/lisas-o-lena.png
END:VEVENT
BEGIN:VEVENT
DTSTART;TZID=Europe/Stockholm:20251101T120000
DTEND;TZID=Europe/Stockholm:20251101T120000
DTSTAMP:20260420T100633
CREATED:20250911T110117Z
LAST-MODIFIED:20250911T111005Z
UID:1090-1761998400-1761998400@lisas.se
SUMMARY:LISAS\, Uppsala Konsert och Kongress - UKK Uppsala
DESCRIPTION:Oktoberstämman 2025 \nUplands Spelmansförbund och UKK välkomnar tillbaka årets stora spelmansfest – med musik\, dans\, sång\, kurser och buskspel i alla vrår! Den stora kvällskonserten gästas i år av hyllade duon LISAS.\nOktoberstämman en av årets återkommande höjdpunkter på Uppsala Konsert & Kongress. I tolv timmar pågår musiken och dansen oavbrutet i UKK:s salar\, foajéer och restaurang med konserter\, workshops\, utställning\, danskurser\, öppen scen – och buskspel så klart! \nBiljetter: https://secure.tickster.com/lwm2pb1rz5yz7tm \nhttps://lisas.se
URL:https://lisas.se/event/lisas-uppsala-konsert-och-kongress-ukk-uppsala/
CATEGORIES:folk
ATTACH;FMTTYPE=image/jpeg:https://lisas.se/wp-content/uploads/2023/03/M1_01675_WWW-scaled.jpg
END:VEVENT
BEGIN:VEVENT
DTSTART;TZID=Europe/Stockholm:20251012T000000
DTEND;TZID=Europe/Stockholm:20251012T000000
DTSTAMP:20260420T100633
CREATED:20250911T110120Z
LAST-MODIFIED:20250911T110904Z
UID:1099-1760227200-1760227200@lisas.se
SUMMARY:Lisa Rydberg & Gunnar Idenstam\, L'église Saint-Jacques-le-Majeur Mougins
DESCRIPTION:Bach en suédois \nBach på svenska med Gunnar Idenstam och Lisa Rydberg i Mougins\, Côte d’Azur \nhttps://www.gazell.net/products/lisa-rydberg-gunnar-idenstam-bach-pa-svenska \nhttps://lisarydberg.com
URL:https://lisas.se/event/lisa-rydberg-gunnar-idenstam-leglise-saint-jacques-le-majeur-mougins/
LOCATION:L’église Saint-Jacques-le-Majeur\, Mougins\, 27 Rue de l'Église\, Mougins\, 06250\, Frankrike
ATTACH;FMTTYPE=image/png:https://lisas.se/wp-content/uploads/2025/09/gunnar-och-lisa.png
END:VEVENT
BEGIN:VEVENT
DTSTART;TZID=Europe/Stockholm:20251011T000000
DTEND;TZID=Europe/Stockholm:20251011T000000
DTSTAMP:20260420T100633
CREATED:20250911T110120Z
LAST-MODIFIED:20250911T110813Z
UID:1098-1760140800-1760140800@lisas.se
SUMMARY:Lisa Rydberg & Gunnar Idenstam\, l'Église du Sacré-Cœur Monaco
DESCRIPTION:Bach en suédois \nBach på svenska med Gunnar Idenstam och Lisa Rydberg på plats i Monaco. \nhttps://www.gazell.net/products/lisa-rydberg-gunnar-idenstam-bach-pa-svenska \nhttps://lisarydberg.com
URL:https://lisas.se/event/lisa-rydberg-gunnar-idenstam-leglise-du-sacre-coeur-monaco/
LOCATION:l’Église du Sacré-Cœur\, Monaco\, 14b Chem. de la Turbie\, Monaco\, 98000\, Monaco
ATTACH;FMTTYPE=image/png:https://lisas.se/wp-content/uploads/2025/09/gunnar-och-lisa.png
END:VEVENT
BEGIN:VEVENT
DTSTART;TZID=Europe/Stockholm:20250928T160000
DTEND;TZID=Europe/Stockholm:20250928T160000
DTSTAMP:20260420T100633
CREATED:20250911T110120Z
LAST-MODIFIED:20250911T110723Z
UID:1096-1759075200-1759075200@lisas.se
SUMMARY:Sofia Karlsson med Lisa Rydberg\, Larslunda aktivitetscenter Strängnäs
DESCRIPTION:Sofia Karlsson tar sitt Selma-album till Strängnäs \nSofia Karlsson har under två decennier befäst sin plats som en av Sveriges främsta artister och låtskrivare. Med en unik röst\, en stark konstnärlig vision och en imponerande låtskatt har hon trollbundit sin publik både i Sverige och internationellt. \nI denna konsert uppträder Sofia med bland andra barockviolinisten och riksspelmannen Lisa Rydberg. \nBiljetter: https://secure.tickster.com/sv/ug8ffa325xrp654 \nhttps://www.sofiakarlsson.com \nhttps://lisarydberg.com
URL:https://lisas.se/event/sofia-karlsson-med-lisa-rydberg-larslunda-aktivitetscenter-strangnas/
LOCATION:Larslunda aktivitetscenter\, Strängnäs\, Arenavägen 1\, Strängnäs\, 645 45
CATEGORIES:folk
ATTACH;FMTTYPE=image/png:https://lisas.se/wp-content/uploads/2025/09/sofia-k.png
END:VEVENT
BEGIN:VEVENT
DTSTART;TZID=Europe/Stockholm:20250927T193000
DTEND;TZID=Europe/Stockholm:20250927T193000
DTSTAMP:20260420T100633
CREATED:20250911T110120Z
LAST-MODIFIED:20250911T110605Z
UID:1097-1759001400-1759001400@lisas.se
SUMMARY:Sofia Karlsson med Lisa Rydberg\, Musik i Dalum Hermans lada Dalum
DESCRIPTION:Sofia Karlsson med ensemble i Hermans lada \nSofia Karlsson har under två decennier befäst sin plats som en av Sveriges främsta artister och låtskrivare. Med en unik röst\, en stark konstnärlig vision och en imponerande låtskatt har hon trollbundit sin publik både i Sverige och internationellt. \nI denna konsert uppträder Sofia med bland andra barockviolinisten och riksspelmannen Lisa Rydberg.\nhttps://lisarydberg.com/ \nBiljetter: https://nortic.se/ticket/event/64667 \nhttps://www.sofiakarlsson.com \nhttps://lisarydberg.com \nFrån kl. 17:30 serverar vi en två- eller trerättersmeny.
URL:https://lisas.se/event/sofia-karlsson-med-lisa-rydberg-musik-i-dalum-hermans-lada-dalum/
LOCATION:Musik i Dalum Hermans lada\, Dalum\, Östergården Vedäsla 114\, Dalum\, 523 75
CATEGORIES:folk
ATTACH;FMTTYPE=image/png:https://lisas.se/wp-content/uploads/2025/09/sofia-k.png
END:VEVENT
BEGIN:VEVENT
DTSTART;TZID=Europe/Stockholm:20250918T194500
DTEND;TZID=Europe/Stockholm:20250918T194500
DTSTAMP:20260420T100633
CREATED:20250906T100613Z
LAST-MODIFIED:20250906T100715Z
UID:1074-1758224700-1758224700@lisas.se
SUMMARY:LISAS\, Teater Giljotin Stockholm
DESCRIPTION:Kammaren kammarmusikklubb bjuder in LISAS \nKammaren är ett unikt kreativt forum för klassisk musik i nya former. \nVi arrangerar våra konserter på anrika Teater Giljotin på Torsgatan 41\,\ncentralt belägen i Vasastan ett stenkast från tunnelbana S:t Eriksplan. \nLISAS utgörs av två av Sveriges mest eftertraktade och kritikerrosade musiker. \nBiljetter: https://billetto.se/ticket_buyer/offers/57aee2cd-ca10-4a9c-99c1-99b682cbe8f4 \nhttps://lisas.se
URL:https://lisas.se/event/lisas-teater-giljotin-stockholm-4/
LOCATION:Teater Giljotin\, Stockholm\, Torsgatan 41\, Stockholm\, 111 32
ATTACH;FMTTYPE=image/png:https://lisas.se/wp-content/uploads/2025/03/lisas-tittar-at-hoger-1.png
END:VEVENT
BEGIN:VEVENT
DTSTART;TZID=Europe/Stockholm:20250918T161500
DTEND;TZID=Europe/Stockholm:20250918T161500
DTSTAMP:20260420T100633
CREATED:20250906T100613Z
LAST-MODIFIED:20250906T100743Z
UID:1073-1758212100-1758212100@lisas.se
SUMMARY:LISAS\, Teater Giljotin Stockholm
DESCRIPTION:Kammaren kammarmusikklubb bjuder in LISAS \nKammaren är ett unikt kreativt forum för klassisk musik i nya former. \nVi arrangerar våra konserter på anrika Teater Giljotin på Torsgatan 41\,\ncentralt belägen i Vasastan ett stenkast från tunnelbana S:t Eriksplan. \nLISAS utgörs av två av Sveriges mest eftertraktade och kritikerrosade musiker. \nBiljetter: https://billetto.se/ticket_buyer/offers/1039e1b9-1c46-4788-b04f-8c1930a3e60b \nhttps://lisas.se
URL:https://lisas.se/event/lisas-teater-giljotin-stockholm-3/
LOCATION:Teater Giljotin\, Stockholm\, Torsgatan 41\, Stockholm\, 111 32
ATTACH;FMTTYPE=image/png:https://lisas.se/wp-content/uploads/2025/03/lisas-tittar-at-hoger-1.png
END:VEVENT
BEGIN:VEVENT
DTSTART;TZID=Europe/Stockholm:20250917T194500
DTEND;TZID=Europe/Stockholm:20250917T194500
DTSTAMP:20260420T100633
CREATED:20250906T100613Z
LAST-MODIFIED:20250906T100807Z
UID:1072-1758138300-1758138300@lisas.se
SUMMARY:LISAS\, Teater Giljotin Stockholm
DESCRIPTION:Kammaren kammarmusikklubb bjuder in LISAS \nKammaren är ett unikt kreativt forum för klassisk musik i nya former. \nVi arrangerar våra konserter på anrika Teater Giljotin på Torsgatan 41\,\ncentralt belägen i Vasastan ett stenkast från tunnelbana S:t Eriksplan. \nLISAS utgörs av två av Sveriges mest eftertraktade och kritikerrosade musiker. \nBiljetter: https://billetto.se/ticket_buyer/offers/4f7d6b7a-e2e0-4451-821e-066cffffde1c \nhttps://lisas.se
URL:https://lisas.se/event/lisas-teater-giljotin-stockholm-2/
LOCATION:Teater Giljotin\, Stockholm\, Torsgatan 41\, Stockholm\, 111 32
ATTACH;FMTTYPE=image/png:https://lisas.se/wp-content/uploads/2025/03/lisas-tittar-at-hoger-1.png
END:VEVENT
BEGIN:VEVENT
DTSTART;TZID=Europe/Stockholm:20250917T161500
DTEND;TZID=Europe/Stockholm:20250917T161500
DTSTAMP:20260420T100633
CREATED:20250906T100613Z
LAST-MODIFIED:20250906T100828Z
UID:1071-1758125700-1758125700@lisas.se
SUMMARY:LISAS\, Teater Giljotin Stockholm
DESCRIPTION:Kammaren kammarmusikklubb bjuder in LISAS \nKammaren är ett unikt kreativt forum för klassisk musik i nya former. \nVi arrangerar våra konserter på anrika Teater Giljotin på Torsgatan 41\,\ncentralt belägen i Vasastan ett stenkast från tunnelbana S:t Eriksplan. \nLISAS utgörs av två av Sveriges mest eftertraktade och kritikerrosade musiker. \nBiljetter: https://billetto.se/ticket_buyer/offers/0616df6b-c8a7-4f3d-b6e0-ffff25775167 \nhttps://lisas.se
URL:https://lisas.se/event/lisas-teater-giljotin-stockholm/
LOCATION:Teater Giljotin\, Stockholm\, Torsgatan 41\, Stockholm\, 111 32
ATTACH;FMTTYPE=image/png:https://lisas.se/wp-content/uploads/2025/03/lisas-tittar-at-hoger-1.png
END:VEVENT
BEGIN:VEVENT
DTSTART;TZID=Europe/Stockholm:20250829T190000
DTEND;TZID=Europe/Stockholm:20250829T190000
DTSTAMP:20260420T100633
CREATED:20250611T091920Z
LAST-MODIFIED:20250611T092431Z
UID:1062-1756494000-1756494000@lisas.se
SUMMARY:LISAS\, Kyrkskolan Ludvika
DESCRIPTION:Dans & Folkton har bjduit in LISAS \nLISAS: Avskalat\, intimt och alldeles briljant\,Lisa Rydberg och Lisa Långbacka i Ludvika \nBiljetter: https://www.nortic.se/ticket/event/70063 \nhttps://lisas.se
URL:https://lisas.se/event/lisas-kyrkskolan-ludvika/
LOCATION:Kyrkskolan\, Ludvika\, Högbergsgatan 19\, Ludvika\, 771 32
ATTACH;FMTTYPE=image/png:https://lisas.se/wp-content/uploads/2025/03/lisas-tittar-at-hoger-1.png
END:VEVENT
BEGIN:VEVENT
DTSTART;TZID=Europe/Stockholm:20250807T190000
DTEND;TZID=Europe/Stockholm:20250807T190000
DTSTAMP:20260420T100633
CREATED:20250526T185233Z
LAST-MODIFIED:20250526T185326Z
UID:1054-1754593200-1754593200@lisas.se
SUMMARY:LISAS\, Västra Karaby kyrka Dösjebro
DESCRIPTION:Musik i backarna i Västra Karby kyrka \nLISAS gör ett turnébesök i Skåne. Här bjuds på ny musik och musikfrån albumet Fiddle & Accordion Conversations och från detsenaste albumet Etiam\, för vilket duon erhåll en Grammis 2024 i kategorinÅrets folkmusik. \nBiljetter: https://www.nortic.se/ticket/event/69158 \nhttps://lisas.se
URL:https://lisas.se/event/lisas-vastra-karaby-kyrka-dosjebro/
LOCATION:Västra Karaby kyrka\, Dösjebro\, Hällavägen 21\, Dösjebro\, 244 95
ATTACH;FMTTYPE=image/png:https://lisas.se/wp-content/uploads/2025/03/lisas-tittar-at-hoger-1.png
END:VEVENT
BEGIN:VEVENT
DTSTART;TZID=Europe/Stockholm:20250613T120000
DTEND;TZID=Europe/Stockholm:20250613T120000
DTSTAMP:20260420T100633
CREATED:20250429T212853Z
LAST-MODIFIED:20250429T213348Z
UID:1035-1749816000-1749816000@lisas.se
SUMMARY:LISAS\, Gävle konserthus Gävle
DESCRIPTION:LISAS medverkar på Naturskyddsföreningens årsstämma.Detta är ett slutet evenemang endast för Naturskyddsföreningens ombud. \nhttps://lisas.se
URL:https://lisas.se/event/lisas-gavle-konserthus-gavle/
CATEGORIES:Folkmusik
ATTACH;FMTTYPE=image/png:https://lisas.se/wp-content/uploads/2025/04/riksstamma.png
END:VEVENT
BEGIN:VEVENT
DTSTART;TZID=Europe/Stockholm:20250515T200000
DTEND;TZID=Europe/Stockholm:20250515T200000
DTSTAMP:20260420T100633
CREATED:20250429T212854Z
LAST-MODIFIED:20250429T213101Z
UID:1038-1747339200-1747339200@lisas.se
SUMMARY:Lisa Långbacka\, Fasching Stockholm
DESCRIPTION:Backlura med Isabella Lundgren och Lisa Långbacka \nKärleken är den starkaste av krafter.Den gör oavbrutet anspråk på mänsklighetens strävan. \nBiljetter: https://www.nortic.se/ticket/show/258451 \nhttps://lisalangbacka.com
URL:https://lisas.se/event/lisa-langbacka-fasching-stockholm/
ATTACH;FMTTYPE=image/png:https://lisas.se/wp-content/uploads/2025/04/backlura.png
END:VEVENT
BEGIN:VEVENT
DTSTART;TZID=Europe/Stockholm:20250428T140000
DTEND;TZID=Europe/Stockholm:20250428T140000
DTSTAMP:20260420T100633
CREATED:20250429T212853Z
LAST-MODIFIED:20250429T212853Z
UID:1034-1745848800-1745848800@lisas.se
SUMMARY:LISAS\, Nalen Stockholm
DESCRIPTION:LISAS medverkar någon gång under Skapdagen.Detta är ett slutet evenemang och medlemskap i SKAP erfodras. \nhttps://lisas.se
URL:https://lisas.se/event/lisas-nalen-stockholm-2/
LOCATION:Nalen\, Stockholm\, Regeringsgatan 74\, Stockholm\, 111 39\, Sweden
CATEGORIES:Folkmusik
END:VEVENT
BEGIN:VEVENT
DTSTART;TZID=Europe/Stockholm:20250419T200000
DTEND;TZID=Europe/Stockholm:20250419T200000
DTSTAMP:20260420T100633
CREATED:20250429T212854Z
LAST-MODIFIED:20250429T212854Z
UID:1036-1745092800-1745092800@lisas.se
SUMMARY:Lisa Långbacka\, Katalin Uppsala
DESCRIPTION:Kärleken \nBacklura med Isabella Lundgren och Lisa Långbackauppträder på temat kärleken”. \nKärleken är den starkaste av krafter – den gör oavbrutetanspråk på mänsklighetens strävan. \nhttps://lisalangbacka.com“
URL:https://lisas.se/event/lisa-langbacka-katalin-uppsala/
LOCATION:Katalin\, Uppsala\, Godsmagasinet Östra Station Roslagsgatan 1\, Uppsala\, 753 27
END:VEVENT
BEGIN:VEVENT
DTSTART;TZID=Europe/Stockholm:20250316T140000
DTEND;TZID=Europe/Stockholm:20250316T140000
DTSTAMP:20260420T100633
CREATED:20250311T093656Z
LAST-MODIFIED:20250311T094335Z
UID:1015-1742133600-1742133600@lisas.se
SUMMARY:LISAS\, Kulturoasen Uppsala
DESCRIPTION:Accordeonisten Lisa Långbacka och barockviolinsten/Riksspelmannen Lisa Rydberg är två hyllade folkmusiker som i maj vann en Grammis för sitt senaste album Etiam. I sina kompositioner flätar de samman folkmusik; barock; tango och nutida konstmusik. Varje stycke har sin egen varsamt utmejslade karaktär. Som ett radband av pärlor i vackert ljus och färgspel! \nNu spelar duon nytt och gammalt material på en söndagseftermiddag i Uppsala.Frivilligt entrébelopp!Samlas in under konsertens gång. Ska dock inte förväxlas med ‘Gratis’. Vi förutsätter att man lägger en slant. Rekommendation 100-300 kr. \nhttps://lisas.se
URL:https://lisas.se/event/lisas-kulturoasen-uppsala/
LOCATION:Kulturoasen\, Uppsala\, Hågavägen 188\, Uppsala\, 752 63\, Sweden
CATEGORIES:Folkmusik
ATTACH;FMTTYPE=image/png:https://lisas.se/wp-content/uploads/2025/03/lisas-tittar-at-hoger-1.png
END:VEVENT
BEGIN:VEVENT
DTSTART;TZID=Europe/Stockholm:20241212T193000
DTEND;TZID=Europe/Stockholm:20241212T193000
DTSTAMP:20260420T100633
CREATED:20240930T185224Z
LAST-MODIFIED:20240930T185658Z
UID:992-1734031800-1734031800@lisas.se
SUMMARY:LISAS\, Konserthuset\, Oslo
DESCRIPTION:Knut Reiersrud har bjudit in några av\nsina svenska musikvänner\ntill att fira Jul på svenska i Lilla salen. \nSvenskarna är inga mindre än Lisa Rydberg\, Lisa Långbacka och Ale Möller. \nBiljetter: https://tix.no/nb/oslok/buyingflow/tickets/28587/ \nhttps://lisas.se
URL:https://lisas.se/event/lisas-konserthuset-oslo-2/
LOCATION:Konserthuset\, Oslo\, Munkedamsveien 14\, Oslo\, 0115\, Sweden
ATTACH;FMTTYPE=image/png:https://lisas.se/wp-content/uploads/2023/10/2023-12-12-jul-pa-svenska.png
END:VEVENT
END:VCALENDAR