BEGIN:VCALENDAR
VERSION:2.0
PRODID:-//LISAS - ECPv6.15.12.2//NONSGML v1.0//EN
CALSCALE:GREGORIAN
METHOD:PUBLISH
X-WR-CALNAME:LISAS
X-ORIGINAL-URL:https://lisas.se
X-WR-CALDESC:Events for LISAS
REFRESH-INTERVAL;VALUE=DURATION:PT1H
X-Robots-Tag:noindex
X-PUBLISHED-TTL:PT1H
BEGIN:VTIMEZONE
TZID:Europe/Stockholm
BEGIN:DAYLIGHT
TZOFFSETFROM:+0100
TZOFFSETTO:+0200
TZNAME:CEST
DTSTART:20250330T010000
END:DAYLIGHT
BEGIN:STANDARD
TZOFFSETFROM:+0200
TZOFFSETTO:+0100
TZNAME:CET
DTSTART:20251026T010000
END:STANDARD
BEGIN:DAYLIGHT
TZOFFSETFROM:+0100
TZOFFSETTO:+0200
TZNAME:CEST
DTSTART:20260329T010000
END:DAYLIGHT
BEGIN:STANDARD
TZOFFSETFROM:+0200
TZOFFSETTO:+0100
TZNAME:CET
DTSTART:20261025T010000
END:STANDARD
BEGIN:DAYLIGHT
TZOFFSETFROM:+0100
TZOFFSETTO:+0200
TZNAME:CEST
DTSTART:20270328T010000
END:DAYLIGHT
BEGIN:STANDARD
TZOFFSETFROM:+0200
TZOFFSETTO:+0100
TZNAME:CET
DTSTART:20271031T010000
END:STANDARD
END:VTIMEZONE
BEGIN:VEVENT
DTSTART;TZID=Europe/Stockholm:20260419T150000
DTEND;TZID=Europe/Stockholm:20260419T150000
DTSTAMP:20260420T095104
CREATED:20260308T120459Z
LAST-MODIFIED:20260308T120911Z
UID:1148-1776610800-1776610800@lisas.se
SUMMARY:LISAS\, Nobel Prize Museum Stockholm
DESCRIPTION:Söndagssalong – Avsluta eftermiddagen med afternoon tea. 19 april står duon LISAS för musiken. \nUnder fyra söndagar bjuder Nobelprismuseet in musiker att framföra en kärleksfull och klassisk repertoar. Temat för konsertserien är kärlek; den lyckliga\, den efterlängtade\, den obesvarade\, den eviga. \nVårens sista Söndagssalong inleds med ett samtal mellan LISAS och Nobelprismuseets Carin Klaesson\, om hur kärlekens många uttryck speglas i både Nobelpris och musik. Samtalet följs av en konsert där den prisbelönta duon LISAS spelar allt från barock till svensk folkmusik. \nBiljetter: https://bokning.nobelprizemuseum.se/evenemang/0083-?lang=SV \nhttps://lisas.se
URL:https://lisas.se/event/lisas-nobel-prize-museum-stockholm/
LOCATION:Nobel Prize Museum\, Stockholm\, Stortorget 2\, Stockholm\, 103 16
CATEGORIES:folk
ATTACH;FMTTYPE=image/jpeg:https://lisas.se/wp-content/uploads/2021/01/LISAS-foto-Peter-Holgersson-scaled.jpg
END:VEVENT
END:VCALENDAR