BEGIN:VCALENDAR
VERSION:2.0
PRODID:-//LISAS - ECPv6.15.12.2//NONSGML v1.0//EN
CALSCALE:GREGORIAN
METHOD:PUBLISH
X-WR-CALNAME:LISAS
X-ORIGINAL-URL:https://lisas.se
X-WR-CALDESC:Events for LISAS
REFRESH-INTERVAL;VALUE=DURATION:PT1H
X-Robots-Tag:noindex
X-PUBLISHED-TTL:PT1H
BEGIN:VTIMEZONE
TZID:Europe/Stockholm
BEGIN:DAYLIGHT
TZOFFSETFROM:+0100
TZOFFSETTO:+0200
TZNAME:CEST
DTSTART:20200329T010000
END:DAYLIGHT
BEGIN:STANDARD
TZOFFSETFROM:+0200
TZOFFSETTO:+0100
TZNAME:CET
DTSTART:20201025T010000
END:STANDARD
BEGIN:DAYLIGHT
TZOFFSETFROM:+0100
TZOFFSETTO:+0200
TZNAME:CEST
DTSTART:20210328T010000
END:DAYLIGHT
BEGIN:STANDARD
TZOFFSETFROM:+0200
TZOFFSETTO:+0100
TZNAME:CET
DTSTART:20211031T010000
END:STANDARD
BEGIN:DAYLIGHT
TZOFFSETFROM:+0100
TZOFFSETTO:+0200
TZNAME:CEST
DTSTART:20220327T010000
END:DAYLIGHT
BEGIN:STANDARD
TZOFFSETFROM:+0200
TZOFFSETTO:+0100
TZNAME:CET
DTSTART:20221030T010000
END:STANDARD
BEGIN:DAYLIGHT
TZOFFSETFROM:+0100
TZOFFSETTO:+0200
TZNAME:CEST
DTSTART:20230326T010000
END:DAYLIGHT
BEGIN:STANDARD
TZOFFSETFROM:+0200
TZOFFSETTO:+0100
TZNAME:CET
DTSTART:20231029T010000
END:STANDARD
END:VTIMEZONE
BEGIN:VEVENT
DTSTART;TZID=Europe/Stockholm:20220925T103000
DTEND;TZID=Europe/Stockholm:20220925T103000
DTSTAMP:20260420T101043
CREATED:20231020T110541Z
LAST-MODIFIED:20231020T110541Z
UID:785-1664101800-1664101800@lisas.se
SUMMARY:LISAS\, Eikenberg\, Brugge
DESCRIPTION:https://lisasofficial.com
URL:https://lisas.se/event/lisas-eikenberg-brugge/
LOCATION:Eikenberg\, Brugge\, Brugge\, Belgium
END:VEVENT
BEGIN:VEVENT
DTSTART;TZID=Europe/Stockholm:20220925T000000
DTEND;TZID=Europe/Stockholm:20220925T000000
DTSTAMP:20260420T101043
CREATED:20231020T110606Z
LAST-MODIFIED:20231020T110606Z
UID:787-1664064000-1664064000@lisas.se
SUMMARY:LISAS\, Musica Divina\, Mechelen
DESCRIPTION:https://lisasofficial.com
URL:https://lisas.se/event/lisas-musica-divina-mechelen/
LOCATION:Musica Divina\, Mechelen\, Onder-den-Toren 12\, Mechelen\, 2800\, Belgium
END:VEVENT
BEGIN:VEVENT
DTSTART;TZID=Europe/Stockholm:20220924T000000
DTEND;TZID=Europe/Stockholm:20220924T000000
DTSTAMP:20260420T101043
CREATED:20231020T110628Z
LAST-MODIFIED:20231020T110628Z
UID:789-1663977600-1663977600@lisas.se
SUMMARY:LISAS\, Sint-Niklaas
DESCRIPTION:https://lisasofficial.com
URL:https://lisas.se/event/lisas-sint-niklaas/
LOCATION:Sint-Niklaas\, Sint-Niklaas\, Belgium
END:VEVENT
BEGIN:VEVENT
DTSTART;TZID=Europe/Stockholm:20220908T190000
DTEND;TZID=Europe/Stockholm:20220908T190000
DTSTAMP:20260420T101043
CREATED:20231020T110706Z
LAST-MODIFIED:20231020T110706Z
UID:791-1662663600-1662663600@lisas.se
SUMMARY:LISAS\, Wasabryggeriet\, Borlänge
DESCRIPTION:Biljetter: https://billetto.se/e/lisas-biljetter-658342 \nhttps://lisasofficial.com
URL:https://lisas.se/event/lisas-wasabryggeriet-borlange/
LOCATION:Wasabryggeriet\, Borlänge\, Sveagränd 1\, Borlänge\, 784 33\, Sweden
END:VEVENT
BEGIN:VEVENT
DTSTART;TZID=Europe/Stockholm:20220827T193000
DTEND;TZID=Europe/Stockholm:20220827T193000
DTSTAMP:20260420T101043
CREATED:20231020T110732Z
LAST-MODIFIED:20231020T110732Z
UID:793-1661628600-1661628600@lisas.se
SUMMARY:LISAS\, SvalsjöFOLK\, Kisa
DESCRIPTION:https://lisasofficial.com
URL:https://lisas.se/event/lisas-svalsjofolk-kisa/
LOCATION:SvalsjöFOLK\, Kisa\, Örsebo Södergård\, Kisa\, 590 39\, Sweden
END:VEVENT
BEGIN:VEVENT
DTSTART;TZID=Europe/Stockholm:20220813T193000
DTEND;TZID=Europe/Stockholm:20220813T193000
DTSTAMP:20260420T101043
CREATED:20231020T110806Z
LAST-MODIFIED:20231020T110806Z
UID:795-1660419000-1660419000@lisas.se
SUMMARY:LISAS och Lena Willemark\, Gävle konserthus
DESCRIPTION:Axmar bruk fyllde 350 år 2021.\nNyskriven musik av LISAS och Lena Willemark \nhttps://duolisas.com
URL:https://lisas.se/event/lisas-och-lena-willemark-gavle-konserthus/
LOCATION:Gävle konserthus\, Kungsbäcksvägen 22\, Gävle\, 802 67\, Sweden
END:VEVENT
BEGIN:VEVENT
DTSTART;TZID=Europe/Stockholm:20220728T190000
DTEND;TZID=Europe/Stockholm:20220728T190000
DTSTAMP:20260420T101043
CREATED:20231020T110836Z
LAST-MODIFIED:20231020T110836Z
UID:797-1659034800-1659034800@lisas.se
SUMMARY:LISAS\, Unnaryds hembygdspark
DESCRIPTION:https://lisasofficial.com
URL:https://lisas.se/event/lisas-unnaryds-hembygdspark/
LOCATION:Unnaryds hembygdspark\, Byvägen 1\, Unnaryd\, 314 51\, Sweden
END:VEVENT
BEGIN:VEVENT
DTSTART;TZID=Europe/Stockholm:20220727T193000
DTEND;TZID=Europe/Stockholm:20220727T193000
DTSTAMP:20260420T101043
CREATED:20231020T110902Z
LAST-MODIFIED:20231020T110902Z
UID:799-1658950200-1658950200@lisas.se
SUMMARY:LISAS\, Gränna kyrka
DESCRIPTION:https://lisasofficial.com
URL:https://lisas.se/event/lisas-granna-kyrka/
LOCATION:Gränna kyrka\, Brahegatan 24\, Gränna\, 563 32\, Sweden
END:VEVENT
BEGIN:VEVENT
DTSTART;TZID=Europe/Stockholm:20220622T190000
DTEND;TZID=Europe/Stockholm:20220622T190000
DTSTAMP:20260420T101043
CREATED:20231020T110925Z
LAST-MODIFIED:20231020T110925Z
UID:801-1655924400-1655924400@lisas.se
SUMMARY:LISAS\, Nora kyrka
DESCRIPTION:https://lisasofficial.com
URL:https://lisas.se/event/lisas-nora-kyrka/
LOCATION:Nora kyrka\, Prästgatan 3\, Nora\, 713 31\, Sweden
END:VEVENT
BEGIN:VEVENT
DTSTART;TZID=Europe/Stockholm:20220621T190000
DTEND;TZID=Europe/Stockholm:20220621T190000
DTSTAMP:20260420T101043
CREATED:20231020T110949Z
LAST-MODIFIED:20231020T110949Z
UID:803-1655838000-1655838000@lisas.se
SUMMARY:LISAS\, Vikers kyrka\, Gyttorp
DESCRIPTION:https://lisasofficial.com
URL:https://lisas.se/event/lisas-vikers-kyrka-gyttorp/
LOCATION:Vikers kyrka\, Gyttorp\, Viker Skreka\, Gyttorp\, 713 92\, Sweden
END:VEVENT
BEGIN:VEVENT
DTSTART;TZID=Europe/Stockholm:20220619T150000
DTEND;TZID=Europe/Stockholm:20220619T150000
DTSTAMP:20260420T101043
CREATED:20231020T111014Z
LAST-MODIFIED:20231020T111014Z
UID:805-1655650800-1655650800@lisas.se
SUMMARY:LISAS\, Tallbo konstnärshem\, Järbo
DESCRIPTION:https://lisasofficial.com
URL:https://lisas.se/event/lisas-tallbo-konstnarshem-jarbo/
LOCATION:Tallbo konstnärshem\, Järbo\, Kungsforsvägen 416\, Järbo\, 811 95\, Sweden
END:VEVENT
BEGIN:VEVENT
DTSTART;TZID=Europe/Stockholm:20220602T190000
DTEND;TZID=Europe/Stockholm:20220602T190000
DTSTAMP:20260420T101043
CREATED:20231020T111057Z
LAST-MODIFIED:20231020T111057Z
UID:807-1654196400-1654196400@lisas.se
SUMMARY:LISAS och Lena Willemark\, Västerås konserthus
DESCRIPTION:Vårcaprice! \nBiljetter: https://www.ticketmaster.se/event/vasteras-sinfonietta-varcaprice-biljetter/610877 \nhttps://duolisas.com
URL:https://lisas.se/event/lisas-och-lena-willemark-vasteras-konserthus/
LOCATION:Västerås konserthus\, Kopparbergsvägen 1\, Västerås\, 722 13\, Sweden
END:VEVENT
BEGIN:VEVENT
DTSTART;TZID=Europe/Stockholm:20220601T190000
DTEND;TZID=Europe/Stockholm:20220601T190000
DTSTAMP:20260420T101043
CREATED:20231020T111144Z
LAST-MODIFIED:20231020T111144Z
UID:809-1654110000-1654110000@lisas.se
SUMMARY:LISAS och Lena Willemark\, Västerås konserthus
DESCRIPTION:Vårcaprice!\n(Datum och biljettlänk på konserthusets hemsida avser 2 juni.) \nBiljetter: https://www.ticketmaster.se/event/vasteras-sinfonietta-varcaprice-biljetter/610589 \nhttps://duolisas.com
URL:https://lisas.se/event/lisas-och-lena-willemark-vasteras-konserthus-2/
LOCATION:Västerås konserthus\, Kopparbergsvägen 1\, Västerås\, 722 13\, Sweden
END:VEVENT
BEGIN:VEVENT
DTSTART;TZID=Europe/Stockholm:20220524T000000
DTEND;TZID=Europe/Stockholm:20220524T000000
DTSTAMP:20260420T101043
CREATED:20231020T111208Z
LAST-MODIFIED:20231020T111208Z
UID:811-1653350400-1653350400@lisas.se
SUMMARY:LISAS\, Mälarpaviljongen\, Stockholm
DESCRIPTION:https://lisasofficial.com
URL:https://lisas.se/event/lisas-malarpaviljongen-stockholm/
LOCATION:Malarpaviljongen\, Stockholm
END:VEVENT
BEGIN:VEVENT
DTSTART;TZID=Europe/Stockholm:20220405T180000
DTEND;TZID=Europe/Stockholm:20220405T180000
DTSTAMP:20260420T101043
CREATED:20231020T111233Z
LAST-MODIFIED:20231020T111233Z
UID:814-1649181600-1649181600@lisas.se
SUMMARY:LISAS\, NAV Nacka
DESCRIPTION:Bokrelease Jonna Bornemark \nhttps://lisasofficial.com
URL:https://lisas.se/event/lisas-nav-nacka/
LOCATION:NAV Nacka\, Värmdövägen 120\, Nacka\, 131 57\, Sweden
END:VEVENT
BEGIN:VEVENT
DTSTART;TZID=Europe/Stockholm:20220404T200000
DTEND;TZID=Europe/Stockholm:20220404T200000
DTSTAMP:20260420T101043
CREATED:20231020T111257Z
LAST-MODIFIED:20231020T111257Z
UID:816-1649102400-1649102400@lisas.se
SUMMARY:LISAS\, Nalen\, Stockholm
DESCRIPTION:Expressens kulturpris \nhttps://lisasofficial.com
URL:https://lisas.se/event/lisas-nalen-stockholm/
LOCATION:Nalen\, Stockholm\, Regeringsgatan 74\, Stockholm\, 111 39\, Sweden
END:VEVENT
BEGIN:VEVENT
DTSTART;TZID=Europe/Stockholm:20220401T193000
DTEND;TZID=Europe/Stockholm:20220401T193000
DTSTAMP:20260420T101043
CREATED:20231020T111323Z
LAST-MODIFIED:20231020T111323Z
UID:818-1648841400-1648841400@lisas.se
SUMMARY:LISAS\, Picchus Café\, Upplands Väsby
DESCRIPTION:https://lisasofficial.com
URL:https://lisas.se/event/lisas-picchus-cafe-upplands-vasby/
LOCATION:Picchus Café\, Upplands Väsby\, Väsbyvägen 36\, Upplands Väsby\, 194 45\, Sweden
END:VEVENT
BEGIN:VEVENT
DTSTART;TZID=Europe/Stockholm:20220220T180000
DTEND;TZID=Europe/Stockholm:20220220T180000
DTSTAMP:20260420T101043
CREATED:20231020T111347Z
LAST-MODIFIED:20231020T111347Z
UID:820-1645380000-1645380000@lisas.se
SUMMARY:LISAS\, Kontempel\, Stockholm
DESCRIPTION:https://lisasofficial.com
URL:https://lisas.se/event/lisas-kontempel-stockholm/
LOCATION:Kontempel\, Stockholm\, Slupskjulsvägen 26 A\, Skeppsholmen\, Stockholm\, 111 49\, Sweden
END:VEVENT
BEGIN:VEVENT
DTSTART;TZID=Europe/Stockholm:20220114T193000
DTEND;TZID=Europe/Stockholm:20220114T193000
DTSTAMP:20260420T101043
CREATED:20231020T111413Z
LAST-MODIFIED:20231020T111413Z
UID:822-1642188600-1642188600@lisas.se
SUMMARY:LISAS\, Stripabryggeriet\, Guldsmedshyttan
DESCRIPTION:https://lisasofficial.com
URL:https://lisas.se/event/lisas-stripabryggeriet-guldsmedshyttan/
LOCATION:Stripabryggeriet\, Guldsmedshyttan\, Gruvbackevägen 8\, Guldsmedshyttan\, 711 78\, Sweden
END:VEVENT
BEGIN:VEVENT
DTSTART;TZID=Europe/Stockholm:20211219T190000
DTEND;TZID=Europe/Stockholm:20211219T190000
DTSTAMP:20260420T101043
CREATED:20231020T111444Z
LAST-MODIFIED:20231020T111444Z
UID:824-1639940400-1639940400@lisas.se
SUMMARY:LISAS and Lena Willemark\, Musikaliska\, Stockholm
DESCRIPTION:I vinterskrud \nBiljetter: https://secure.tickster.com/sv/xghggbj6w59y0un/products
URL:https://lisas.se/event/lisas-and-lena-willemark-musikaliska-stockholm/
LOCATION:Musikaliska\, Stockholm\, Nybrokajen 11\, Stockholm\, 111 48\, Sweden
END:VEVENT
BEGIN:VEVENT
DTSTART;TZID=Europe/Stockholm:20211218T190000
DTEND;TZID=Europe/Stockholm:20211218T190000
DTSTAMP:20260420T101043
CREATED:20231020T111520Z
LAST-MODIFIED:20231020T111520Z
UID:826-1639854000-1639854000@lisas.se
SUMMARY:LISAS and Lena Willemark\, Kulturkvarteret Kristianstad
DESCRIPTION:A concert in cooperation with Christian IV:s Gymnasium \nBiljetter: https://kulturkvarteret.ebiljett.nu/Tickets/Choose/1153?S=0
URL:https://lisas.se/event/lisas-and-lena-willemark-kulturkvarteret-kristianstad/
LOCATION:Kulturkvarteret Kristianstad\, Kanalgatan 30\, Kristianstad\, 291 34\, Sweden
END:VEVENT
BEGIN:VEVENT
DTSTART;TZID=Europe/Stockholm:20211218T150000
DTEND;TZID=Europe/Stockholm:20211218T150000
DTSTAMP:20260420T101043
CREATED:20231020T111556Z
LAST-MODIFIED:20231020T111556Z
UID:828-1639839600-1639839600@lisas.se
SUMMARY:LISAS and Lena Willemark\, Kulturkvarteret Kristianstad
DESCRIPTION:A concert in cooperation with Christian IV:s Gymnasium \nBiljetter: https://kulturkvarteret.ebiljett.nu/Tickets/Choose/1153?S=0
URL:https://lisas.se/event/lisas-and-lena-willemark-kulturkvarteret-kristianstad-2/
LOCATION:Kulturkvarteret Kristianstad\, Kanalgatan 30\, Kristianstad\, 291 34\, Sweden
END:VEVENT
BEGIN:VEVENT
DTSTART;TZID=Europe/Stockholm:20211127T180000
DTEND;TZID=Europe/Stockholm:20211127T180000
DTSTAMP:20260420T101043
CREATED:20231020T111620Z
LAST-MODIFIED:20231020T111620Z
UID:830-1638036000-1638036000@lisas.se
SUMMARY:LISAS\, Aggershus\, Östansjö
DESCRIPTION:https://lisasofficial.com
URL:https://lisas.se/event/lisas-aggershus-ostansjo-2/
LOCATION:Aggershus\, Östansjö\, Berga Skola 349\, Östansjö\, 694 93\, Sweden
END:VEVENT
BEGIN:VEVENT
DTSTART;TZID=Europe/Stockholm:20211028T190000
DTEND;TZID=Europe/Stockholm:20211028T190000
DTSTAMP:20260420T101043
CREATED:20231020T111646Z
LAST-MODIFIED:20231020T111646Z
UID:832-1635447600-1635447600@lisas.se
SUMMARY:LISAS\, Omnikvariatet\, Uppsala
DESCRIPTION:https://lisasofficial.com
URL:https://lisas.se/event/lisas-omnikvariatet-uppsala/
LOCATION:Omnikvariatet\, Uppsala\, Dragarbrunnsgatan 53\, Uppsala\, 753 20\, Sweden
END:VEVENT
BEGIN:VEVENT
DTSTART;TZID=Europe/Stockholm:20211010T160000
DTEND;TZID=Europe/Stockholm:20211010T160000
DTSTAMP:20260420T101043
CREATED:20231020T111734Z
LAST-MODIFIED:20231020T111734Z
UID:834-1633881600-1633881600@lisas.se
SUMMARY:Elise Einarsdotter och Olle Steinholtz\, Oktoberteatern\, Södertälje
DESCRIPTION:Elises salong. Gäster: Lisa Långbacka\, Lisa Rydberg\, Olle Steinholtz och Marika Lagercrantz. \nBiljetter: https://secure.tickster.com/en/1953va9114919ub/7fumrembcf4tex5/seating \nhttp://mistralmusic.com
URL:https://lisas.se/event/elise-einarsdotter-och-olle-steinholtz-oktoberteatern-sodertalje/
LOCATION:Oktoberteatern\, Södertälje\, Slussgatan 1\, Södertälje\, 151 71\, Sweden
END:VEVENT
BEGIN:VEVENT
DTSTART;TZID=Europe/Stockholm:20210930T180000
DTEND;TZID=Europe/Stockholm:20210930T180000
DTSTAMP:20260420T101043
CREATED:20231020T111800Z
LAST-MODIFIED:20231020T111800Z
UID:836-1633024800-1633024800@lisas.se
SUMMARY:LISAS\, Kulturhuset Messingen\, Upplands Väsby
DESCRIPTION:https://lisasofficial.com
URL:https://lisas.se/event/lisas-kulturhuset-messingen-upplands-vasby/
LOCATION:Kulturhuset Messingen\, Upplands Väsby\, Love Almqvists torg 1\, Upplands Väsby\, 194 77\, Sweden
END:VEVENT
BEGIN:VEVENT
DTSTART;TZID=Europe/Stockholm:20210926T180000
DTEND;TZID=Europe/Stockholm:20210926T180000
DTSTAMP:20260420T101043
CREATED:20231020T111838Z
LAST-MODIFIED:20231020T111838Z
UID:838-1632679200-1632679200@lisas.se
SUMMARY:LISAS\, Kontempel\, Stockholm
DESCRIPTION:Biljetter: https://www.kontempel.se/event-details/konsert-lisas \nhttps://lisasofficial.com
URL:https://lisas.se/event/lisas-kontempel-stockholm-2/
LOCATION:Kontempel\, Stockholm\, Slupskjulsvägen 26 A\, Skeppsholmen\, Stockholm\, 111 49\, Sweden
END:VEVENT
BEGIN:VEVENT
DTSTART;TZID=Europe/Stockholm:20210919T180000
DTEND;TZID=Europe/Stockholm:20210919T180000
DTSTAMP:20260420T101043
CREATED:20231020T111903Z
LAST-MODIFIED:20231020T111903Z
UID:840-1632074400-1632074400@lisas.se
SUMMARY:LISAS\, Stora Kopparbergs kyrka\, Falun
DESCRIPTION:https://lisasofficial.com
URL:https://lisas.se/event/lisas-stora-kopparbergs-kyrka-falun/
LOCATION:Stora Kopparbergs kyrka\, Falun\, Kyrkogårdsgränd 2\, Falun\, 791 33\, Sweden
END:VEVENT
BEGIN:VEVENT
DTSTART;TZID=Europe/Stockholm:20210909T193000
DTEND;TZID=Europe/Stockholm:20210909T193000
DTSTAMP:20260420T101043
CREATED:20231020T111926Z
LAST-MODIFIED:20231020T111926Z
UID:842-1631215800-1631215800@lisas.se
SUMMARY:LISAS and Joakim Milder\, Bangen Jazzfestival\, Sandviken
DESCRIPTION:
URL:https://lisas.se/event/lisas-and-joakim-milder-bangen-jazzfestival-sandviken/
LOCATION:Bangen Jazzfestival\, Sandviken\, Stadsparken nära Odengatan\, Sandviken\, Sweden
END:VEVENT
BEGIN:VEVENT
DTSTART;TZID=Europe/Stockholm:20210908T170000
DTEND;TZID=Europe/Stockholm:20210908T170000
DTSTAMP:20260420T101043
CREATED:20231020T112000Z
LAST-MODIFIED:20231020T112000Z
UID:844-1631120400-1631120400@lisas.se
SUMMARY:LISAS\, Stallet\, Stockholm
DESCRIPTION:Sluten spelning för Kungliga Musikaliska Akademien \nhttps://lisasofficial.com
URL:https://lisas.se/event/lisas-stallet-stockholm-2/
LOCATION:Stallet\, Stockholm\, Stallgatan 7\, Stockholm\, 111 48\, Sweden
END:VEVENT
END:VCALENDAR