BEGIN:VCALENDAR
VERSION:2.0
PRODID:-//LISAS - ECPv6.15.12.2//NONSGML v1.0//EN
CALSCALE:GREGORIAN
METHOD:PUBLISH
X-ORIGINAL-URL:https://lisas.se
X-WR-CALDESC:Events for LISAS
REFRESH-INTERVAL;VALUE=DURATION:PT1H
X-Robots-Tag:noindex
X-PUBLISHED-TTL:PT1H
BEGIN:VTIMEZONE
TZID:Europe/Stockholm
BEGIN:DAYLIGHT
TZOFFSETFROM:+0100
TZOFFSETTO:+0200
TZNAME:CEST
DTSTART:20200329T010000
END:DAYLIGHT
BEGIN:STANDARD
TZOFFSETFROM:+0200
TZOFFSETTO:+0100
TZNAME:CET
DTSTART:20201025T010000
END:STANDARD
BEGIN:DAYLIGHT
TZOFFSETFROM:+0100
TZOFFSETTO:+0200
TZNAME:CEST
DTSTART:20210328T010000
END:DAYLIGHT
BEGIN:STANDARD
TZOFFSETFROM:+0200
TZOFFSETTO:+0100
TZNAME:CET
DTSTART:20211031T010000
END:STANDARD
BEGIN:DAYLIGHT
TZOFFSETFROM:+0100
TZOFFSETTO:+0200
TZNAME:CEST
DTSTART:20220327T010000
END:DAYLIGHT
BEGIN:STANDARD
TZOFFSETFROM:+0200
TZOFFSETTO:+0100
TZNAME:CET
DTSTART:20221030T010000
END:STANDARD
END:VTIMEZONE
BEGIN:VEVENT
DTSTART;TZID=Europe/Stockholm:20210908T170000
DTEND;TZID=Europe/Stockholm:20210908T170000
DTSTAMP:20260423T055104
CREATED:20231020T112000Z
LAST-MODIFIED:20231020T112000Z
UID:844-1631120400-1631120400@lisas.se
SUMMARY:LISAS\, Stallet\, Stockholm
DESCRIPTION:Sluten spelning för Kungliga Musikaliska Akademien \nhttps://lisasofficial.com
URL:https://lisas.se/event/lisas-stallet-stockholm-2/
LOCATION:Stallet\, Stockholm\, Stallgatan 7\, Stockholm\, 111 48\, Sweden
END:VEVENT
BEGIN:VEVENT
DTSTART;TZID=Europe/Stockholm:20210909T193000
DTEND;TZID=Europe/Stockholm:20210909T193000
DTSTAMP:20260423T055104
CREATED:20231020T111926Z
LAST-MODIFIED:20231020T111926Z
UID:842-1631215800-1631215800@lisas.se
SUMMARY:LISAS and Joakim Milder\, Bangen Jazzfestival\, Sandviken
DESCRIPTION:
URL:https://lisas.se/event/lisas-and-joakim-milder-bangen-jazzfestival-sandviken/
LOCATION:Bangen Jazzfestival\, Sandviken\, Stadsparken nära Odengatan\, Sandviken\, Sweden
END:VEVENT
BEGIN:VEVENT
DTSTART;TZID=Europe/Stockholm:20210919T180000
DTEND;TZID=Europe/Stockholm:20210919T180000
DTSTAMP:20260423T055104
CREATED:20231020T111903Z
LAST-MODIFIED:20231020T111903Z
UID:840-1632074400-1632074400@lisas.se
SUMMARY:LISAS\, Stora Kopparbergs kyrka\, Falun
DESCRIPTION:https://lisasofficial.com
URL:https://lisas.se/event/lisas-stora-kopparbergs-kyrka-falun/
LOCATION:Stora Kopparbergs kyrka\, Falun\, Kyrkogårdsgränd 2\, Falun\, 791 33\, Sweden
END:VEVENT
BEGIN:VEVENT
DTSTART;TZID=Europe/Stockholm:20210926T180000
DTEND;TZID=Europe/Stockholm:20210926T180000
DTSTAMP:20260423T055104
CREATED:20231020T111838Z
LAST-MODIFIED:20231020T111838Z
UID:838-1632679200-1632679200@lisas.se
SUMMARY:LISAS\, Kontempel\, Stockholm
DESCRIPTION:Biljetter: https://www.kontempel.se/event-details/konsert-lisas \nhttps://lisasofficial.com
URL:https://lisas.se/event/lisas-kontempel-stockholm-2/
LOCATION:Kontempel\, Stockholm\, Slupskjulsvägen 26 A\, Skeppsholmen\, Stockholm\, 111 49\, Sweden
END:VEVENT
BEGIN:VEVENT
DTSTART;TZID=Europe/Stockholm:20210930T180000
DTEND;TZID=Europe/Stockholm:20210930T180000
DTSTAMP:20260423T055104
CREATED:20231020T111800Z
LAST-MODIFIED:20231020T111800Z
UID:836-1633024800-1633024800@lisas.se
SUMMARY:LISAS\, Kulturhuset Messingen\, Upplands Väsby
DESCRIPTION:https://lisasofficial.com
URL:https://lisas.se/event/lisas-kulturhuset-messingen-upplands-vasby/
LOCATION:Kulturhuset Messingen\, Upplands Väsby\, Love Almqvists torg 1\, Upplands Väsby\, 194 77\, Sweden
END:VEVENT
END:VCALENDAR