BEGIN:VCALENDAR
VERSION:2.0
PRODID:-//LISAS - ECPv6.15.12.2//NONSGML v1.0//EN
CALSCALE:GREGORIAN
METHOD:PUBLISH
X-ORIGINAL-URL:https://lisas.se
X-WR-CALDESC:Events for LISAS
REFRESH-INTERVAL;VALUE=DURATION:PT1H
X-Robots-Tag:noindex
X-PUBLISHED-TTL:PT1H
BEGIN:VTIMEZONE
TZID:Europe/Stockholm
BEGIN:DAYLIGHT
TZOFFSETFROM:+0100
TZOFFSETTO:+0200
TZNAME:CEST
DTSTART:20200329T010000
END:DAYLIGHT
BEGIN:STANDARD
TZOFFSETFROM:+0200
TZOFFSETTO:+0100
TZNAME:CET
DTSTART:20201025T010000
END:STANDARD
BEGIN:DAYLIGHT
TZOFFSETFROM:+0100
TZOFFSETTO:+0200
TZNAME:CEST
DTSTART:20210328T010000
END:DAYLIGHT
BEGIN:STANDARD
TZOFFSETFROM:+0200
TZOFFSETTO:+0100
TZNAME:CET
DTSTART:20211031T010000
END:STANDARD
BEGIN:DAYLIGHT
TZOFFSETFROM:+0100
TZOFFSETTO:+0200
TZNAME:CEST
DTSTART:20220327T010000
END:DAYLIGHT
BEGIN:STANDARD
TZOFFSETFROM:+0200
TZOFFSETTO:+0100
TZNAME:CET
DTSTART:20221030T010000
END:STANDARD
END:VTIMEZONE
BEGIN:VEVENT
DTSTART;TZID=Europe/Stockholm:20211218T150000
DTEND;TZID=Europe/Stockholm:20211218T150000
DTSTAMP:20260423T005102
CREATED:20231020T111556Z
LAST-MODIFIED:20231020T111556Z
UID:828-1639839600-1639839600@lisas.se
SUMMARY:LISAS and Lena Willemark\, Kulturkvarteret Kristianstad
DESCRIPTION:A concert in cooperation with Christian IV:s Gymnasium \nBiljetter: https://kulturkvarteret.ebiljett.nu/Tickets/Choose/1153?S=0
URL:https://lisas.se/event/lisas-and-lena-willemark-kulturkvarteret-kristianstad-2/
LOCATION:Kulturkvarteret Kristianstad\, Kanalgatan 30\, Kristianstad\, 291 34\, Sweden
END:VEVENT
BEGIN:VEVENT
DTSTART;TZID=Europe/Stockholm:20211218T190000
DTEND;TZID=Europe/Stockholm:20211218T190000
DTSTAMP:20260423T005102
CREATED:20231020T111520Z
LAST-MODIFIED:20231020T111520Z
UID:826-1639854000-1639854000@lisas.se
SUMMARY:LISAS and Lena Willemark\, Kulturkvarteret Kristianstad
DESCRIPTION:A concert in cooperation with Christian IV:s Gymnasium \nBiljetter: https://kulturkvarteret.ebiljett.nu/Tickets/Choose/1153?S=0
URL:https://lisas.se/event/lisas-and-lena-willemark-kulturkvarteret-kristianstad/
LOCATION:Kulturkvarteret Kristianstad\, Kanalgatan 30\, Kristianstad\, 291 34\, Sweden
END:VEVENT
BEGIN:VEVENT
DTSTART;TZID=Europe/Stockholm:20211219T190000
DTEND;TZID=Europe/Stockholm:20211219T190000
DTSTAMP:20260423T005102
CREATED:20231020T111444Z
LAST-MODIFIED:20231020T111444Z
UID:824-1639940400-1639940400@lisas.se
SUMMARY:LISAS and Lena Willemark\, Musikaliska\, Stockholm
DESCRIPTION:I vinterskrud \nBiljetter: https://secure.tickster.com/sv/xghggbj6w59y0un/products
URL:https://lisas.se/event/lisas-and-lena-willemark-musikaliska-stockholm/
LOCATION:Musikaliska\, Stockholm\, Nybrokajen 11\, Stockholm\, 111 48\, Sweden
END:VEVENT
END:VCALENDAR