BEGIN:VCALENDAR
VERSION:2.0
PRODID:-//LISAS - ECPv6.15.12.2//NONSGML v1.0//EN
CALSCALE:GREGORIAN
METHOD:PUBLISH
X-WR-CALNAME:LISAS
X-ORIGINAL-URL:https://lisas.se
X-WR-CALDESC:Events for LISAS
REFRESH-INTERVAL;VALUE=DURATION:PT1H
X-Robots-Tag:noindex
X-PUBLISHED-TTL:PT1H
BEGIN:VTIMEZONE
TZID:Europe/Stockholm
BEGIN:DAYLIGHT
TZOFFSETFROM:+0100
TZOFFSETTO:+0200
TZNAME:CEST
DTSTART:20210328T010000
END:DAYLIGHT
BEGIN:STANDARD
TZOFFSETFROM:+0200
TZOFFSETTO:+0100
TZNAME:CET
DTSTART:20211031T010000
END:STANDARD
BEGIN:DAYLIGHT
TZOFFSETFROM:+0100
TZOFFSETTO:+0200
TZNAME:CEST
DTSTART:20220327T010000
END:DAYLIGHT
BEGIN:STANDARD
TZOFFSETFROM:+0200
TZOFFSETTO:+0100
TZNAME:CET
DTSTART:20221030T010000
END:STANDARD
BEGIN:DAYLIGHT
TZOFFSETFROM:+0100
TZOFFSETTO:+0200
TZNAME:CEST
DTSTART:20230326T010000
END:DAYLIGHT
BEGIN:STANDARD
TZOFFSETFROM:+0200
TZOFFSETTO:+0100
TZNAME:CET
DTSTART:20231029T010000
END:STANDARD
END:VTIMEZONE
BEGIN:VEVENT
DTSTART;TZID=Europe/Stockholm:20220908T190000
DTEND;TZID=Europe/Stockholm:20220908T190000
DTSTAMP:20260423T083132
CREATED:20231020T110706Z
LAST-MODIFIED:20231020T110706Z
UID:791-1662663600-1662663600@lisas.se
SUMMARY:LISAS\, Wasabryggeriet\, Borlänge
DESCRIPTION:Biljetter: https://billetto.se/e/lisas-biljetter-658342 \nhttps://lisasofficial.com
URL:https://lisas.se/event/lisas-wasabryggeriet-borlange/
LOCATION:Wasabryggeriet\, Borlänge\, Sveagränd 1\, Borlänge\, 784 33\, Sweden
END:VEVENT
BEGIN:VEVENT
DTSTART;TZID=Europe/Stockholm:20220924T000000
DTEND;TZID=Europe/Stockholm:20220924T000000
DTSTAMP:20260423T083132
CREATED:20231020T110628Z
LAST-MODIFIED:20231020T110628Z
UID:789-1663977600-1663977600@lisas.se
SUMMARY:LISAS\, Sint-Niklaas
DESCRIPTION:https://lisasofficial.com
URL:https://lisas.se/event/lisas-sint-niklaas/
LOCATION:Sint-Niklaas\, Sint-Niklaas\, Belgium
END:VEVENT
BEGIN:VEVENT
DTSTART;TZID=Europe/Stockholm:20220925T000000
DTEND;TZID=Europe/Stockholm:20220925T000000
DTSTAMP:20260423T083132
CREATED:20231020T110606Z
LAST-MODIFIED:20231020T110606Z
UID:787-1664064000-1664064000@lisas.se
SUMMARY:LISAS\, Musica Divina\, Mechelen
DESCRIPTION:https://lisasofficial.com
URL:https://lisas.se/event/lisas-musica-divina-mechelen/
LOCATION:Musica Divina\, Mechelen\, Onder-den-Toren 12\, Mechelen\, 2800\, Belgium
END:VEVENT
BEGIN:VEVENT
DTSTART;TZID=Europe/Stockholm:20220925T103000
DTEND;TZID=Europe/Stockholm:20220925T103000
DTSTAMP:20260423T083132
CREATED:20231020T110541Z
LAST-MODIFIED:20231020T110541Z
UID:785-1664101800-1664101800@lisas.se
SUMMARY:LISAS\, Eikenberg\, Brugge
DESCRIPTION:https://lisasofficial.com
URL:https://lisas.se/event/lisas-eikenberg-brugge/
LOCATION:Eikenberg\, Brugge\, Brugge\, Belgium
END:VEVENT
BEGIN:VEVENT
DTSTART;TZID=Europe/Stockholm:20220929T200000
DTEND;TZID=Europe/Stockholm:20220929T200000
DTSTAMP:20260423T083132
CREATED:20231020T110517Z
LAST-MODIFIED:20231020T110517Z
UID:783-1664481600-1664481600@lisas.se
SUMMARY:LISAS\, Göteborgsoperan
DESCRIPTION:https://lisasofficial.com
URL:https://lisas.se/event/lisas-goteborgsoperan/
LOCATION:Göteborgsoperan\, Christina Nilssons gata\, Göteborg\, 411 04\, Sweden
END:VEVENT
END:VCALENDAR