BEGIN:VCALENDAR
VERSION:2.0
PRODID:-//LISAS - ECPv6.15.12.2//NONSGML v1.0//EN
CALSCALE:GREGORIAN
METHOD:PUBLISH
X-ORIGINAL-URL:https://lisas.se
X-WR-CALDESC:Events for LISAS
REFRESH-INTERVAL;VALUE=DURATION:PT1H
X-Robots-Tag:noindex
X-PUBLISHED-TTL:PT1H
BEGIN:VTIMEZONE
TZID:Europe/Stockholm
BEGIN:DAYLIGHT
TZOFFSETFROM:+0100
TZOFFSETTO:+0200
TZNAME:CEST
DTSTART:20210328T010000
END:DAYLIGHT
BEGIN:STANDARD
TZOFFSETFROM:+0200
TZOFFSETTO:+0100
TZNAME:CET
DTSTART:20211031T010000
END:STANDARD
BEGIN:DAYLIGHT
TZOFFSETFROM:+0100
TZOFFSETTO:+0200
TZNAME:CEST
DTSTART:20220327T010000
END:DAYLIGHT
BEGIN:STANDARD
TZOFFSETFROM:+0200
TZOFFSETTO:+0100
TZNAME:CET
DTSTART:20221030T010000
END:STANDARD
BEGIN:DAYLIGHT
TZOFFSETFROM:+0100
TZOFFSETTO:+0200
TZNAME:CEST
DTSTART:20230326T010000
END:DAYLIGHT
BEGIN:STANDARD
TZOFFSETFROM:+0200
TZOFFSETTO:+0100
TZNAME:CET
DTSTART:20231029T010000
END:STANDARD
END:VTIMEZONE
BEGIN:VEVENT
DTSTART;TZID=Europe/Stockholm:20221210T000000
DTEND;TZID=Europe/Stockholm:20221210T000000
DTSTAMP:20260423T132005
CREATED:20231020T110403Z
LAST-MODIFIED:20231020T110403Z
UID:777-1670630400-1670630400@lisas.se
SUMMARY:LISAS and Lena Willemark\, Djurö Konst och Kultur\, Stavsnäs
DESCRIPTION:
URL:https://lisas.se/event/lisas-and-lena-willemark-djuro-konst-och-kultur-stavsnas/
LOCATION:Djurö Konst och Kultur\, Stavsnäs\, Byskolan\, Skolvägen 15\, Stavsnäs\, 13970\, Sweden
END:VEVENT
BEGIN:VEVENT
DTSTART;TZID=Europe/Stockholm:20221218T170000
DTEND;TZID=Europe/Stockholm:20221218T170000
DTSTAMP:20260423T132005
CREATED:20231020T110342Z
LAST-MODIFIED:20231020T110342Z
UID:775-1671382800-1671382800@lisas.se
SUMMARY:LISAS med Sofie Livebrant\, Huddinge kyrka
DESCRIPTION:Mariakonsert med sånger ur Mary´s Question av Sofie Livebrant\nMedverkande: Sofie Livebrant\, Lisa Långbacka och Lisa Rydberg\, Damkören Gaudia! \, Elisabet Brander\, dirigent.
URL:https://lisas.se/event/lisas-med-sofie-livebrant-huddinge-kyrka/
LOCATION:Huddinge kyrka\, Kommunalvägen 21\, Huddinge\, 141 23\, Sweden
END:VEVENT
END:VCALENDAR