BEGIN:VCALENDAR
VERSION:2.0
PRODID:-//LISAS - ECPv6.15.12.2//NONSGML v1.0//EN
CALSCALE:GREGORIAN
METHOD:PUBLISH
X-WR-CALNAME:LISAS
X-ORIGINAL-URL:https://lisas.se
X-WR-CALDESC:Events for LISAS
REFRESH-INTERVAL;VALUE=DURATION:PT1H
X-Robots-Tag:noindex
X-PUBLISHED-TTL:PT1H
BEGIN:VTIMEZONE
TZID:Europe/Stockholm
BEGIN:DAYLIGHT
TZOFFSETFROM:+0100
TZOFFSETTO:+0200
TZNAME:CEST
DTSTART:20220327T010000
END:DAYLIGHT
BEGIN:STANDARD
TZOFFSETFROM:+0200
TZOFFSETTO:+0100
TZNAME:CET
DTSTART:20221030T010000
END:STANDARD
BEGIN:DAYLIGHT
TZOFFSETFROM:+0100
TZOFFSETTO:+0200
TZNAME:CEST
DTSTART:20230326T010000
END:DAYLIGHT
BEGIN:STANDARD
TZOFFSETFROM:+0200
TZOFFSETTO:+0100
TZNAME:CET
DTSTART:20231029T010000
END:STANDARD
BEGIN:DAYLIGHT
TZOFFSETFROM:+0100
TZOFFSETTO:+0200
TZNAME:CEST
DTSTART:20240331T010000
END:DAYLIGHT
BEGIN:STANDARD
TZOFFSETFROM:+0200
TZOFFSETTO:+0100
TZNAME:CET
DTSTART:20241027T010000
END:STANDARD
END:VTIMEZONE
BEGIN:VEVENT
DTSTART;TZID=Europe/Stockholm:20230527T000000
DTEND;TZID=Europe/Stockholm:20230527T000000
DTSTAMP:20260426T054401
CREATED:20231020T105649Z
LAST-MODIFIED:20231020T105649Z
UID:747-1685145600-1685145600@lisas.se
SUMMARY:LISAS och Väsen\, Reginateatern\, Uppsala
DESCRIPTION:
URL:https://lisas.se/event/lisas-och-vasen-reginateatern-uppsala/
LOCATION:Reginateatern\, Uppsala\, Trädgårdsgatan 6\, Uppsala\, 753 09\, Sweden
END:VEVENT
BEGIN:VEVENT
DTSTART;TZID=Europe/Stockholm:20230527T000000
DTEND;TZID=Europe/Stockholm:20230527T000000
DTSTAMP:20260426T054401
CREATED:20231020T105709Z
LAST-MODIFIED:20231020T105709Z
UID:749-1685145600-1685145600@lisas.se
SUMMARY:LISAS and Lena Willemark\, Sigridslund\, Sparreholm
DESCRIPTION:
URL:https://lisas.se/event/lisas-and-lena-willemark-sigridslund-sparreholm/
LOCATION:Sigridslund\, Sparreholm\, Årdala Sigridslunds Skola 2\, Sparreholm\, 649 91\, Sweden
END:VEVENT
END:VCALENDAR