BEGIN:VCALENDAR
VERSION:2.0
PRODID:-//LISAS - ECPv6.15.12.2//NONSGML v1.0//EN
CALSCALE:GREGORIAN
METHOD:PUBLISH
X-WR-CALNAME:LISAS
X-ORIGINAL-URL:https://lisas.se
X-WR-CALDESC:Events for LISAS
REFRESH-INTERVAL;VALUE=DURATION:PT1H
X-Robots-Tag:noindex
X-PUBLISHED-TTL:PT1H
BEGIN:VTIMEZONE
TZID:Europe/Stockholm
BEGIN:DAYLIGHT
TZOFFSETFROM:+0100
TZOFFSETTO:+0200
TZNAME:CEST
DTSTART:20220327T010000
END:DAYLIGHT
BEGIN:STANDARD
TZOFFSETFROM:+0200
TZOFFSETTO:+0100
TZNAME:CET
DTSTART:20221030T010000
END:STANDARD
BEGIN:DAYLIGHT
TZOFFSETFROM:+0100
TZOFFSETTO:+0200
TZNAME:CEST
DTSTART:20230326T010000
END:DAYLIGHT
BEGIN:STANDARD
TZOFFSETFROM:+0200
TZOFFSETTO:+0100
TZNAME:CET
DTSTART:20231029T010000
END:STANDARD
BEGIN:DAYLIGHT
TZOFFSETFROM:+0100
TZOFFSETTO:+0200
TZNAME:CEST
DTSTART:20240331T010000
END:DAYLIGHT
BEGIN:STANDARD
TZOFFSETFROM:+0200
TZOFFSETTO:+0100
TZNAME:CET
DTSTART:20241027T010000
END:STANDARD
END:VTIMEZONE
BEGIN:VEVENT
DTSTART;TZID=Europe/Stockholm:20231028T200000
DTEND;TZID=Europe/Stockholm:20231028T200000
DTSTAMP:20260425T205903
CREATED:20231020T105513Z
LAST-MODIFIED:20231020T133954Z
UID:741-1698523200-1698523200@lisas.se
SUMMARY:Lisa Rydberg\, Lena Willemark och Johan Graden\, Stallet\, Stockholm
DESCRIPTION:Denna konsert ingår i Kista folkmusikfestival \nBiljetter: https://secure.tickster.com/eehpuxfthbx9u64 \nhttps://lisalangbacka.com/
URL:https://lisas.se/event/lisas-and-lena-willemark-stallet-stockholm/
LOCATION:Stallet\, Stockholm\, Stallgatan 7\, Stockholm\, 111 48\, Sweden
END:VEVENT
END:VCALENDAR