BEGIN:VCALENDAR
VERSION:2.0
PRODID:-//LISAS - ECPv6.15.12.2//NONSGML v1.0//EN
CALSCALE:GREGORIAN
METHOD:PUBLISH
X-ORIGINAL-URL:https://lisas.se
X-WR-CALDESC:Events for LISAS
REFRESH-INTERVAL;VALUE=DURATION:PT1H
X-Robots-Tag:noindex
X-PUBLISHED-TTL:PT1H
BEGIN:VTIMEZONE
TZID:Europe/Stockholm
BEGIN:DAYLIGHT
TZOFFSETFROM:+0100
TZOFFSETTO:+0200
TZNAME:CEST
DTSTART:20230326T010000
END:DAYLIGHT
BEGIN:STANDARD
TZOFFSETFROM:+0200
TZOFFSETTO:+0100
TZNAME:CET
DTSTART:20231029T010000
END:STANDARD
BEGIN:DAYLIGHT
TZOFFSETFROM:+0100
TZOFFSETTO:+0200
TZNAME:CEST
DTSTART:20240331T010000
END:DAYLIGHT
BEGIN:STANDARD
TZOFFSETFROM:+0200
TZOFFSETTO:+0100
TZNAME:CET
DTSTART:20241027T010000
END:STANDARD
BEGIN:DAYLIGHT
TZOFFSETFROM:+0100
TZOFFSETTO:+0200
TZNAME:CEST
DTSTART:20250330T010000
END:DAYLIGHT
BEGIN:STANDARD
TZOFFSETFROM:+0200
TZOFFSETTO:+0100
TZNAME:CET
DTSTART:20251026T010000
END:STANDARD
END:VTIMEZONE
BEGIN:VEVENT
DTSTART;TZID=Europe/Stockholm:20240504T193000
DTEND;TZID=Europe/Stockholm:20240504T193000
DTSTAMP:20260421T020621
CREATED:20240216T125914Z
LAST-MODIFIED:20240310T215052Z
UID:883-1714851000-1714851000@lisas.se
SUMMARY:LISAS\, Kafé Källtorp\, Nacka
DESCRIPTION:Egenkomponerad folkmusik i världsklass — med sitt alldeles unika sound hyllas LISAS både av publik och kritiker som en av vår tids ledande folkmusikduo. \nBiljetter: https://mountainbikeskolan.se/musik/lisas/ \nhttps://lisas.se/
URL:https://lisas.se/event/lisas-kafe-kalltorp-nacka/
LOCATION:Kafé Källtorp\, Nacka\, Ältavägen 105\, Nacka\, 131 33\, Sweden
ATTACH;FMTTYPE=image/jpeg:https://lisas.se/wp-content/uploads/2023/03/M1_01675_WWW-scaled.jpg
END:VEVENT
BEGIN:VEVENT
DTSTART;TZID=Europe/Stockholm:20240519T150000
DTEND;TZID=Europe/Stockholm:20240519T150000
DTSTAMP:20260421T020621
CREATED:20240420T054419Z
LAST-MODIFIED:20240420T064341Z
UID:952-1716130800-1716130800@lisas.se
SUMMARY:LISAS\, Ecke Hedbergs konstnärshem\, Järbo
DESCRIPTION:Upplev LISAS musikaliska samtal där två instrument blir ett och en person blir två.
URL:https://lisas.se/event/lisas-ecke-hedbergs-konstnarshem-jarbo/
LOCATION:Ecke Hedbergs konstnärshem\, Järbo\, Kungsforsvägen 416\, Järbo\, 811 95\, Sweden
ATTACH;FMTTYPE=image/jpeg:https://lisas.se/wp-content/uploads/2023/03/M1_01675_WWW-scaled.jpg
END:VEVENT
BEGIN:VEVENT
DTSTART;TZID=Europe/Stockholm:20240525T190000
DTEND;TZID=Europe/Stockholm:20240525T190000
DTSTAMP:20260421T020621
CREATED:20240412T065651Z
LAST-MODIFIED:20240429T201617Z
UID:940-1716663600-1716663600@lisas.se
SUMMARY:LISAS\, Musikaliska Kvarteret\, Stockholm
DESCRIPTION:Paradiset kammarmusik & bar är en konsertserie på Stora Scen i Musikaliska Kvarteret. \nMedverkande:\nLisa Rydberg – violin\nLisa Långbacka – accordeon\nJoakim Milder – saxofon\nChristian Spering – bas \nEntré & barer: 18:00\nKonsert: 19:00 \nBiljetter: https://secure.tickster.com/en/e4an7tyn0m7kl0e/products
URL:https://lisas.se/event/lisas-musikaliska-kvarteret-stockholm/
LOCATION:Musikaliska Kvarteret\, Stockholm
ATTACH;FMTTYPE=image/png:https://lisas.se/wp-content/uploads/2024/04/paradiset.png
END:VEVENT
END:VCALENDAR