BEGIN:VCALENDAR
VERSION:2.0
PRODID:-//LISAS - ECPv6.15.12.2//NONSGML v1.0//EN
CALSCALE:GREGORIAN
METHOD:PUBLISH
X-ORIGINAL-URL:https://lisas.se
X-WR-CALDESC:Events for LISAS
REFRESH-INTERVAL;VALUE=DURATION:PT1H
X-Robots-Tag:noindex
X-PUBLISHED-TTL:PT1H
BEGIN:VTIMEZONE
TZID:Europe/Stockholm
BEGIN:DAYLIGHT
TZOFFSETFROM:+0100
TZOFFSETTO:+0200
TZNAME:CEST
DTSTART:20240331T010000
END:DAYLIGHT
BEGIN:STANDARD
TZOFFSETFROM:+0200
TZOFFSETTO:+0100
TZNAME:CET
DTSTART:20241027T010000
END:STANDARD
BEGIN:DAYLIGHT
TZOFFSETFROM:+0100
TZOFFSETTO:+0200
TZNAME:CEST
DTSTART:20250330T010000
END:DAYLIGHT
BEGIN:STANDARD
TZOFFSETFROM:+0200
TZOFFSETTO:+0100
TZNAME:CET
DTSTART:20251026T010000
END:STANDARD
BEGIN:DAYLIGHT
TZOFFSETFROM:+0100
TZOFFSETTO:+0200
TZNAME:CEST
DTSTART:20260329T010000
END:DAYLIGHT
BEGIN:STANDARD
TZOFFSETFROM:+0200
TZOFFSETTO:+0100
TZNAME:CET
DTSTART:20261025T010000
END:STANDARD
END:VTIMEZONE
BEGIN:VEVENT
DTSTART;TZID=Europe/Stockholm:20250515T200000
DTEND;TZID=Europe/Stockholm:20250515T200000
DTSTAMP:20260420T203248
CREATED:20250429T212854Z
LAST-MODIFIED:20250429T213101Z
UID:1038-1747339200-1747339200@lisas.se
SUMMARY:Lisa Långbacka\, Fasching Stockholm
DESCRIPTION:Backlura med Isabella Lundgren och Lisa Långbacka \nKärleken är den starkaste av krafter.Den gör oavbrutet anspråk på mänsklighetens strävan. \nBiljetter: https://www.nortic.se/ticket/show/258451 \nhttps://lisalangbacka.com
URL:https://lisas.se/event/lisa-langbacka-fasching-stockholm/
ATTACH;FMTTYPE=image/png:https://lisas.se/wp-content/uploads/2025/04/backlura.png
END:VEVENT
END:VCALENDAR